BEGIN:VCALENDAR
VERSION:2.0
PRODID:-//wp-events-plugin.com//7.2.3.1//EN
TZID:Europe/Berlin
X-WR-TIMEZONE:Europe/Berlin
BEGIN:VEVENT
UID:8928@planlos-leipzig.org
DTSTART;TZID=Europe/Berlin:20260529T193000
DTEND;TZID=Europe/Berlin:20260529T204500
DTSTAMP:20260420T150931Z
URL:https://www.planlos-leipzig.org/events/a-jumpin-night-in-the-garden-of
 -eden-gefaess-des-liedes-tacheles/
SUMMARY:A JUMPIN' NIGHT IN THE GARDEN OF EDEN (GEFÄSS DES LIEDES / TACHELE
 S)
DESCRIPTION:USA 1987\, Dokumentarfilm\, 75 min\nRegie: Michal Goldman · OV
  (Englisch)\nMit: Henry Sapoznik\, Hankus Netsky\, Michael Alpert\, Judy B
 ressler\, Don Byron\n\nA JUMPIN' NIGHT IN THE GARDEN OF EDEN war der erste
  Film über das Klezmer-Revival. Michal Goldman fängt gegen Ende der 80er
  Jahre die Bemühungen zweier wegweisenden Gruppen ein – Kapelye und der
  Boston Klezmer Conservatory Band –\, verlorene Geschichte der Klezmer-M
 usik wiederzubeleben. A JUMPIN' NIGHT IN THE GARDEN OF EDEN begleitet den 
 musikalischen Entstehungsprozess der Klezmer-Melodien von der Transkriptio
 n über die Probe bis zur Aufführung. Lebhaft\, clever und humorvoll verb
 indet Michal Goldman seltenes Filmmaterial von den inzwischen verstorbenen
  Dave Tarras\, Leon Schwartz und Ben Gailing mit dynamischen Begegnungen j
 üngerer Musiker*innen\, die zu den führenden Koryphäen des Klezmer gewo
 rden sind – Henry Sapoznik\, Hankus Netsky\, Michael Alpert\, Judy Bress
 ler und des Jazzmusikers Don Byron\, die alle im Film noch am Anfang ihrer
  Karrieren standen. Anschließend findet ein Gespräch mit der Sängerin u
 nd Musikerin Rosamond van Wingerden über die zeitgenössische Klezmer-Sze
 ne statt. Stills © Michal Goldman\n\nA JUMPIN' NIGHT IN THE GARDEN OF EDE
 N was the first film about the Klezmer revival. Michal Goldman captures on
  camera the efforts of two pioneering groups in the late 1980s – Kapelye
  and the Boston Klezmer Conservatory Band – to revive the lost history o
 f Klezmer music. A JUMPIN' NIGHT IN THE GARDEN OF EDEN follows the musical
  creation process of Klezmer melodies from transcription through rehearsal
  to performance. Lively\, clever\, and humorous\, Michal Goldman combines 
 rare footage of the now-deceased grandmasters of Klezmer – including Dav
 e Tarras\, Leon Schwartz\, and Ben Gailing – with dynamic encounters fea
 turing younger musicians who have since become leading luminaries of Klezm
 er: Henry Sapoznik\, Hankus Netsky\, Michael Alpert\, Judy Bressler\, and 
 jazz musician Don Byron\, all of them at the beginning of their careers in
  the film. (English original version) The screening will be followed by a 
 discussion with singer and musician Rosamond van Wingerden about the conte
 mporary klezmer scene.\n\nhttps://cinematheque-leipzig.de/programm/filme/a
 -jumpin-night-in-the-garden-of-eden/\n\nhttps://www.planlos-leipzig.org/ev
 ents/a-jumpin-night-in-the-garden-of-eden-gefaess-des-liedes-tacheles/
CATEGORIES:Film
LOCATION:Cinémathèque\, Karl-Liebknecht-Str. 109\, Leipzig
X-APPLE-STRUCTURED-LOCATION;VALUE=URI;X-ADDRESS=Karl-Liebknecht-Str. 109\, 
 Leipzig\, Deutschland;X-APPLE-RADIUS=100;X-TITLE=Cinémathèque:geo:0,0
END:VEVENT
BEGIN:VTIMEZONE
TZID:Europe/Berlin
X-LIC-LOCATION:Europe/Berlin
BEGIN:DAYLIGHT
DTSTART:20260329T030000
TZOFFSETFROM:+0100
TZOFFSETTO:+0200
TZNAME:CEST
END:DAYLIGHT
END:VTIMEZONE
END:VCALENDAR