BEGIN:VCALENDAR
VERSION:2.0
PRODID:-//wp-events-plugin.com//7.2.3.1//EN
TZID:Europe/Berlin
X-WR-TIMEZONE:Europe/Berlin
BEGIN:VEVENT
UID:8899@planlos-leipzig.org
DTSTART;TZID=Europe/Berlin:20260503T120000
DTEND;TZID=Europe/Berlin:20260503T180000
DTSTAMP:20260413T190954Z
URL:https://www.planlos-leipzig.org/events/anarchistisches-parkfest-2/
SUMMARY:Anarchistisches Parkfest
DESCRIPTION:Kommt mit uns in den Park - Aufruf zur Beteiligung am anarchist
 ischen Parkfest am 03.05.2026 von 12-18 Uhr!\n\nBereits zum fünften Mal v
 eranstalten wir auch dieses Jahr wieder ein anarchistisches Parkfest im Ra
 bet. Wir werden für Getränke\, Speisen\, Musik\, Vorträge und vielleich
 t noch einiges mehr sorgen.\n\nKlar ist aber auch: all das lebt von der In
 itiative Vieler. Freiheit lebt von Eigenverantwortung und Handeln.\nEs wä
 re schön viele unterschiedliche Initiativen an diesem Tag zu sehen\, auch
  wenn diese verschiedene Ansätze vertreten. Wer nicht aktiv autoritäre I
 nhalte verbreitet\, oder Anhänger*in von autoritären Organisierungskonze
 pten ist\, sei uns willkommen. Als Anarchist*innen wollen wir zwar keine N
 ationalfahnen\, Partei- oder Konzernlogos auf unserem Fest sehen\, freuen 
 uns aber über alle\, die sich beteiligen wollen. Da wir nur eine begrenzt
 e Anzahl an Tischen und Pavillons haben\, wäre es cool\, wenn ihr selbst 
 welche mitbringen könntet\, wenn möglich.\n\nAlso bringt euch ein! Ob al
 s Einzelperson oder als Gruppe. Organisiert einen Infotisch\, einen Worksh
 op\, eine KüFa\, bringt Kuchen oder andere (vegane) Speisen mit oder was 
 immer euch sonst einfällt.\nLasst uns raus aus den grauen Fassaden und ab
  in den Park\, kommt zusammen und lernt euch kennen!\n\nIhr habt Bock eine
 n Infostand\, eine Küfa o.Ä. zu machen? Meldet euch gern bei uns oder ve
 rbreitet unseren Aufruf an Interessierte. Auch wenn ihr schon im Vorfeld L
 ust habt gemeinsam mit uns etwas zu organisieren\, meldet euch gern unter:
 \nparkfest@proton.me\n\n\n\nhttps://www.planlos-leipzig.org/events/anarchi
 stisches-parkfest-2/
ATTACH;FMTTYPE=image/jpeg:https://www.planlos-leipzig.org/wp-content/uploa
 ds/2026/04/1000000230.jpg
LOCATION:Am Rabet\, Am Rabet \, Leipzig
X-APPLE-STRUCTURED-LOCATION;VALUE=URI;X-ADDRESS=Am Rabet \, Leipzig\, Deuts
 chland;X-APPLE-RADIUS=100;X-TITLE=Am Rabet:geo:0,0
END:VEVENT
BEGIN:VTIMEZONE
TZID:Europe/Berlin
X-LIC-LOCATION:Europe/Berlin
BEGIN:DAYLIGHT
DTSTART:20260329T030000
TZOFFSETFROM:+0100
TZOFFSETTO:+0200
TZNAME:CEST
END:DAYLIGHT
END:VTIMEZONE
END:VCALENDAR