BEGIN:VCALENDAR
VERSION:2.0
PRODID:-//wp-events-plugin.com//7.2.3.1//EN
TZID:Europe/Berlin
X-WR-TIMEZONE:Europe/Berlin
BEGIN:VEVENT
UID:8775@planlos-leipzig.org
DTSTART;TZID=Europe/Berlin:20260412T110000
DTEND;TZID=Europe/Berlin:20260412T150000
DTSTAMP:20260311T080726Z
URL:https://www.planlos-leipzig.org/events/antifaschistische-fahrradtour-i
 n-erinnerung-an-die-todesmaersche-aus-leipzig-und-das-massaker-in-lindenth
 al/
SUMMARY:Antifaschistische Fahrradtour - in Erinnerung an die Todesmärsche 
 aus Leipzig und das Massaker in Lindenthal
DESCRIPTION:Am 18. April 1945 wurde Leipzig von amerikanischen Truppen befr
 eit. Wenige Tage vor der Befreiung versuchten die Nationalsozialisten alle
  Spuren zu verwischen.\nAm 12. April 1945 ermordeten sie in Lindenthal und
  auf dem Gelände der heutigen General-Olbricht-Kaserne insgesamt 84 Mensc
 hen. Dabei handelte es sich größtenteils um Zwangsarbeitskräfte und Men
 schen aus dem Widerstand die in die Fänge der deutschen Faschisten gerate
 n waren.\nAb dem 13. April 1945 begannen auch die Todesmärsche aus den KZ
 -Außenlagern im Großraum Leipzig Richtung Osten. Die Fahrradtour führt 
 über mehrere Stationen u.a zum ehemaligen Standort des größten Leipzige
 r Außenlagers von Buchenwald in der heutigen Kamenzer Straße. Anschließ
 end fahren wir nach Lindenthal\, wo ab 14:30 Uhr gemeinsam am „Denkmal d
 er 53″ den dort Ermordeten gedacht werden soll.\n\nNicht willkommen auf 
 der Demo sind national und territorial Fahnen und dergleichen Symbole jedw
 eder coleur\, sowie Fahnen von Parteien. Die antifaschistische Aktion soll
 te uns als Ausdruck genügen.\n\neine Kooperation von VVN-BdA Leipzig\, La
 denschlussbündnis Leipzig und Naturfreundejugend Leipzig\n\n\n\nhttps://w
 ww.planlos-leipzig.org/events/antifaschistische-fahrradtour-in-erinnerung-
 an-die-todesmaersche-aus-leipzig-und-das-massaker-in-lindenthal/
ATTACH;FMTTYPE=image/jpeg:https://www.planlos-leipzig.org/wp-content/uploa
 ds/2026/03/Kopie-von-Testbilder-fuer-neue-Farben-10.5-x-14.8-cm-1_page-000
 1.jpg
CATEGORIES:Fahrradtour
LOCATION:Graffiti-Wand Rabet\, Rabet 4\, Leipzig
X-APPLE-STRUCTURED-LOCATION;VALUE=URI;X-ADDRESS=Rabet 4\, Leipzig\, Deutsch
 land;X-APPLE-RADIUS=100;X-TITLE=Graffiti-Wand Rabet:geo:0,0
END:VEVENT
BEGIN:VTIMEZONE
TZID:Europe/Berlin
X-LIC-LOCATION:Europe/Berlin
BEGIN:DAYLIGHT
DTSTART:20260329T030000
TZOFFSETFROM:+0100
TZOFFSETTO:+0200
TZNAME:CEST
END:DAYLIGHT
END:VTIMEZONE
END:VCALENDAR