BEGIN:VCALENDAR
VERSION:2.0
PRODID:-//wp-events-plugin.com//7.2.3.1//EN
TZID:Europe/Berlin
X-WR-TIMEZONE:Europe/Berlin
BEGIN:VEVENT
UID:8932@planlos-leipzig.org
DTSTART;TZID=Europe/Berlin:20260430T190000
DTEND;TZID=Europe/Berlin:20260430T210000
DTSTAMP:20260421T152901Z
URL:https://www.planlos-leipzig.org/events/antifeminismus-bei-jungen-maenn
 ern-theorie-theke/
SUMMARY:Antifeminismus bei jungen Männern - Theorie &amp\; Theke
DESCRIPTION:Antifeminismus ist kein neues Phänomen\, aber eines\, das den 
 letzten Jahren vermehrt Aufmerksamkeit erfährt. Gleichzeitig verändern s
 ich misogyne Denkmuster und Haltungen gemeinsam mit gesellschaftlichen Ver
 hältnissen und fordern uns damit tagtäglich neu heraus.\n\nAls Projektgr
 uppe beschäftigen wir uns laufend mit antifeministischen Tendenzen\, vor 
 allem als Teil der Lebenswelten der Jungen und jungen Männern\, die an un
 seren Veranstaltungen teilnehmen. In den letzten Jahren hat sich dabei ein
 iges verändert.\nIm Rahmen von Theorie &amp\; Theke wollen wir einen Einb
 lick in unsere Auseinandersetzungen und Beobachtungen geben\, diese theore
 tisch einordnen und vor allem mit euch über die Ziele einer sozialistisch
 en\, antisexistischen Pädagogik ins Gespräch kommen.\n\nBeginn: 30.04.\,
  19.00 Uhr\nOrt: Ladenlokal der Falken Leipzig\nDrink des Abends: Gimlet\n
 \n\n\nhttps://www.planlos-leipzig.org/events/antifeminismus-bei-jungen-mae
 nnern-theorie-theke/
ATTACH;FMTTYPE=image/jpeg:https://www.planlos-leipzig.org/wp-content/uploa
 ds/2026/04/Antifeminismus_TT.jpeg
CATEGORIES:Diskussion,Vortrag,Workshop
LOCATION:Ladenlokal der Falken Leipzig\, Dimpfelstraße 33\, 04347 Leipzig
X-APPLE-STRUCTURED-LOCATION;VALUE=URI;X-ADDRESS=Dimpfelstraße 33\, 04347 L
 eipzig\, Deutschland;X-APPLE-RADIUS=100;X-TITLE=Ladenlokal der Falken Leip
 zig:geo:0,0
END:VEVENT
BEGIN:VTIMEZONE
TZID:Europe/Berlin
X-LIC-LOCATION:Europe/Berlin
BEGIN:DAYLIGHT
DTSTART:20260329T030000
TZOFFSETFROM:+0100
TZOFFSETTO:+0200
TZNAME:CEST
END:DAYLIGHT
END:VTIMEZONE
END:VCALENDAR