BEGIN:VCALENDAR
VERSION:2.0
PRODID:-//wp-events-plugin.com//7.2.3.1//EN
TZID:Europe/Berlin
X-WR-TIMEZONE:Europe/Berlin
BEGIN:VEVENT
UID:8756@planlos-leipzig.org
DTSTART;TZID=Europe/Berlin:20260327T170000
DTEND;TZID=Europe/Berlin:20260327T193000
DTSTAMP:20260307T005658Z
URL:https://www.planlos-leipzig.org/events/besichtigungsbegleitung-gemeins
 am-gegen-diskriminierung-am-wohnungsmarkt/
SUMMARY:Besichtigungsbegleitung – Gemeinsam gegen Diskriminierung am Wohn
 ungsmarkt
DESCRIPTION:In Leipzig eine Wohnung zu finden ist für viele eine Hürde 
 – besonders bei Sprachbarrieren und Diskriminierung. Du möchtest helfen
 ? Unser Workshop vermittelt Grundlagen ehrenamtlicher Wohnungsbegleitung: 
 Wie läuft eine Besichtigung ab? Welche Diskriminierungen gibt es? Welche 
 Dokumente sind wichtig\, wenn die Miete durch soziale Träger übernommen 
 wird? Die Kontaktstelle Wohnen begleitet seit 2016 Menschen mit Fluchtgesc
 hichte und teilt ihre Erfahrungen mit Interessierten.\n\nhttps://www.konta
 ktstelle-wohnen.de/\n\n\n\nDie Veranstaltung findet im Rahmen der Housing 
 Action Days 2026 statt – das vollständige Programm findet ihr unter: ht
 tps://leipzigfueralle.de\n\n\n\n&nbsp\;\n\nhttps://leipzigfueralle.de/\n\n
 https://www.planlos-leipzig.org/events/besichtigungsbegleitung-gemeinsam-g
 egen-diskriminierung-am-wohnungsmarkt/
ATTACH;FMTTYPE=image/jpeg:https://www.planlos-leipzig.org/wp-content/uploa
 ds/2026/03/planlos-kontaktstelle-Wohnen-1.png
CATEGORIES:Workshop
LOCATION:Handstand &amp\; Moral\, Merseburger Str. 88b\, Leipzig Lindenau
X-APPLE-STRUCTURED-LOCATION;VALUE=URI;X-ADDRESS=Merseburger Str. 88b\, Leip
 zig Lindenau\, Deutschland;X-APPLE-RADIUS=100;X-TITLE=Handstand & Moral:ge
 o:0,0
END:VEVENT
BEGIN:VTIMEZONE
TZID:Europe/Berlin
X-LIC-LOCATION:Europe/Berlin
BEGIN:STANDARD
DTSTART:20251026T020000
TZOFFSETFROM:+0200
TZOFFSETTO:+0100
TZNAME:CET
END:STANDARD
END:VTIMEZONE
END:VCALENDAR