BEGIN:VCALENDAR
VERSION:2.0
PRODID:-//wp-events-plugin.com//7.2.3.1//EN
TZID:Europe/Berlin
X-WR-TIMEZONE:Europe/Berlin
BEGIN:VEVENT
UID:8723@planlos-leipzig.org
DTSTART;TZID=Europe/Berlin:20260325T160000
DTEND;TZID=Europe/Berlin:20260325T180000
DTSTAMP:20260307T005622Z
URL:https://www.planlos-leipzig.org/events/betriebskosten-verstehen/
SUMMARY:Betriebskosten verstehen
DESCRIPTION:Workshop II: Betriebskosten verstehen\nMit Rechtsanwältin Astr
 id Naundorf.\n\nIn diesem zweiten Workshop von Rechtsanwältin Astrid Naun
 dorf erklärt sie\, was Betriebskosten eigentlich sind\, wie eine Abrechnu
 ng funktioniert und was für Überprüfungsmöglichkeiten ihr habt.\nBitte
  bringt eure eigene Betriebskostenabrechnung von 2024 und 2023 mit. In ein
 em praktischen Teil kann die eigene Abrechnung geprüft werden.\n\nhttps:/
 /www.astrid-naundorf.de/\n\n\n\nDie Veranstaltung findet im Rahmen der Hou
 sing Action Days 2026 statt - das vollständige Programm findet ihr hier.\
 n\n\n\nhttps://leipzigfueralle.de/\n\nhttps://www.planlos-leipzig.org/even
 ts/betriebskosten-verstehen/
ATTACH;FMTTYPE=image/jpeg:https://www.planlos-leipzig.org/wp-content/uploa
 ds/2026/03/planlos-Kachel-ohne-Gruppe-3.png
CATEGORIES:Workshop
LOCATION:Stadtteilladen Klinke\, Volckmarstraße 5\, Reudnitz
X-APPLE-STRUCTURED-LOCATION;VALUE=URI;X-ADDRESS=Volckmarstraße 5\, Reudnit
 z\, Deutschland;X-APPLE-RADIUS=100;X-TITLE=Stadtteilladen Klinke:geo:0,0
END:VEVENT
BEGIN:VTIMEZONE
TZID:Europe/Berlin
X-LIC-LOCATION:Europe/Berlin
BEGIN:STANDARD
DTSTART:20251026T020000
TZOFFSETFROM:+0200
TZOFFSETTO:+0100
TZNAME:CET
END:STANDARD
END:VTIMEZONE
END:VCALENDAR