BEGIN:VCALENDAR
VERSION:2.0
PRODID:-//wp-events-plugin.com//7.2.3.1//EN
TZID:Europe/Berlin
X-WR-TIMEZONE:Europe/Berlin
BEGIN:VEVENT
UID:8635@planlos-leipzig.org
DTSTART;TZID=Europe/Berlin:20260212T190000
DTEND;TZID=Europe/Berlin:20260212T210000
DTSTAMP:20260210T085941Z
URL:https://www.planlos-leipzig.org/events/bildungsreise-protestwanderung-
 zum-weltwirtschaftsforum-in-davos-2026-bericht-und-diskussion/
SUMMARY:Bildungsreise &amp\; Protestwanderung zum Weltwirtschaftsforum in D
 avos 2026 - Bericht und Diskussion
DESCRIPTION:Das Kipppunkt-Kollektiv aus Berlin sowie WEED e.V. laden im
  Januar 2026 gemeinsam mit StrikeWEF zur Bildungsreise und Protestwander
 ung zum Weltwirtschaftsforum nach Davos in die Schweiz. Das Weltwirtschafs
 forum ist das jährliche Treffen der gleichnamigen Lobbyorganisation\, der
  Unternehmen mit zumeist mehr als 5 Milliarden Euro Jahresumsatz angehöre
 n. Beim Weltwirtschaftsforum kommen Vertreter*innen der Unternehmen\, Expe
 rt*innen aus Wirtschaft\, Politik und Gesellschaft zusammen\, um über akt
 uelle Fragen zu diskutieren.\n\nWährend sich das Weltwirtschaftsforum als
  Plattforum zum Austausch präsentiert\, steht es doch sinnbildlich für e
 ine ungerechte Weltwirtschaftsordnung\, die den Klimawandel befördert sta
 tt bremst und demokratische Strukturen gefährdet.\n\nBei der Veranstaltun
 g im &quot;Raum für Demokratie&quot; wollen wir darüber ins Gespräch kommen\, abe
 r auch über die Proteste und Alternativen wie das Weltsozialforum. Wir be
 richten von der Bildungsreise und der Protestwanderung. Und wir wollen sch
 auen\, wie all das mit uns vor Ort zusammen hängt und welche Handlungsmö
 glichkeiten für uns bestehen.\n\nhttps://klima-initiative-taucha.de/bildu
 ngsreise-und-protestwanderung-davos-2026\n\nhttps://www.planlos-leipzig.or
 g/events/bildungsreise-protestwanderung-zum-weltwirtschaftsforum-in-davos-
 2026-bericht-und-diskussion/
ATTACH;FMTTYPE=image/jpeg:https://www.planlos-leipzig.org/wp-content/uploa
 ds/2026/02/1000010531x.jpg
CATEGORIES:Diskussion
LOCATION:L44 - Raum für Demokratie\, Leipziger Str. 44\, Taucha
X-APPLE-STRUCTURED-LOCATION;VALUE=URI;X-ADDRESS=Leipziger Str. 44\, Taucha\
 , Deutschland;X-APPLE-RADIUS=100;X-TITLE=L44 - Raum für Demokratie:geo:0,
 0
END:VEVENT
BEGIN:VTIMEZONE
TZID:Europe/Berlin
X-LIC-LOCATION:Europe/Berlin
BEGIN:STANDARD
DTSTART:20251026T020000
TZOFFSETFROM:+0200
TZOFFSETTO:+0100
TZNAME:CET
END:STANDARD
END:VTIMEZONE
END:VCALENDAR