BEGIN:VCALENDAR
VERSION:2.0
PRODID:-//wp-events-plugin.com//7.2.3.1//EN
TZID:Europe/Berlin
X-WR-TIMEZONE:Europe/Berlin
BEGIN:VEVENT
UID:8725@planlos-leipzig.org
DTSTART;TZID=Europe/Berlin:20260326T160000
DTEND;TZID=Europe/Berlin:20260326T183000
DTSTAMP:20260307T005643Z
URL:https://www.planlos-leipzig.org/events/countermapping-der-verdraengung
 /
SUMMARY:Countermapping der Verdrängung
DESCRIPTION:Countermapping der Verdrängung\nein partizipativer Spaziergang
  mit dem krikkel-Kollektiv.\n\nKrikkel ist ein Counter-Mapping-Kollektiv. 
 Bei einem Spaziergang durch den Leipziger Osten erkundet ihr Leipzig mit p
 artizipativen Karten neu und macht Erfahrungen\, Gefühle\, Erinnerungen v
 on emotionaler sowie materieller Verdrängung in der Stadt sichtbar.\nwww.
 instagram.com/krikk.el\nkrikkel@systemausfall.org\n\n\n\nDie Veranstaltung
  findet im Rahmen der Housing Action Days 2026 statt - das vollständige P
 rogramm findet ihr hier.\n\n\n\nhttps://leipzigfueralle.de/\n\nhttps://www
 .planlos-leipzig.org/events/countermapping-der-verdraengung/
ATTACH;FMTTYPE=image/jpeg:https://www.planlos-leipzig.org/wp-content/uploa
 ds/2026/03/planlos-krikkel.png
CATEGORIES:Rundgang
LOCATION:Skatepark am Rabet\, Konradstraße 26\, Neustadt-Neuschönefeld
X-APPLE-STRUCTURED-LOCATION;VALUE=URI;X-ADDRESS=Konradstraße 26\, Neustadt
 -Neuschönefeld\, Deutschland;X-APPLE-RADIUS=100;X-TITLE=Skatepark am Rabe
 t:geo:0,0
END:VEVENT
BEGIN:VTIMEZONE
TZID:Europe/Berlin
X-LIC-LOCATION:Europe/Berlin
BEGIN:STANDARD
DTSTART:20251026T020000
TZOFFSETFROM:+0200
TZOFFSETTO:+0100
TZNAME:CET
END:STANDARD
END:VTIMEZONE
END:VCALENDAR