BEGIN:VCALENDAR
VERSION:2.0
PRODID:-//wp-events-plugin.com//7.2.3.1//EN
TZID:Europe/Berlin
X-WR-TIMEZONE:Europe/Berlin
BEGIN:VEVENT
UID:8926@planlos-leipzig.org
DTSTART;TZID=Europe/Berlin:20260522T193000
DTEND;TZID=Europe/Berlin:20260522T213200
DTSTAMP:20260420T150918Z
URL:https://www.planlos-leipzig.org/events/der-zerbrochene-klang-gefaess-d
 es-liedes-tacheles/
SUMMARY:DER ZERBROCHENE KLANG (GEFÄSS DES LIEDES / TACHELES)
DESCRIPTION:BRD 2011\, Dokumentarfilm\, 122 min\nRegie: Yvonne Andrä &amp\
 ; Wolfgang Andrä · OmU (Englisch\, Russisch\, Deutsch\, Französisch\, U
 ngarisch\, Jiddisch\, Rumänisch mit deutschen Untertiteln)\n\nBis Anfang 
 des 20. Jahrhunderts lebten jüdische und Roma- Musikerfamilien in Bessara
 bien zusammen\, heirateten untereinander und musizierten gemeinsam. Diese 
 jüdischen Klezmer- und Roma- Lautarimusiker formten eine gemeinsame Musik
 kultur\, die durch den Zweiten Weltkrieg zerstört wurde. 70 Jahre später
  begeben sich 14 international bekannte Musiker aus aller Welt auf eine Re
 ise in diese Vergangenheit. Die musikalische Suche nach dem zerbrochenen K
 lang führt sie zu hinreißender Musik\, aber völlig unerwartet auch zu e
 iner teils sehr schmerzlichen Erforschung ihrer eigenen Identität und Ste
 llung als Juden und Roma in und außerhalb Europas. Stills © 1meter60 Fil
 m\n\nUntil the early 20th century\, Jewish and Romani families of musician
 s lived together in Bessarabia\, intermarried\, and made music together. T
 hese Jewish klezmer and Romani string musicians formed a shared musical cu
 lture that was destroyed by World War II. Seventy years later\, 14 interna
 tionally renowned musicians from around the world embark on a journey into
  this past. The musical search for the lost sound leads them to captivatin
 g music\, but also\, quite unexpectedly\, to a sometimes very painful expl
 oration of their own identities and positions as Jews and Roma within and 
 outside of Europe. (English\, Russian\, German\, French\, Hungarian\, Yidd
 ish\, Romanian with German subtitles)\n\nhttps://cinematheque-leipzig.de/p
 rogramm/filme/der-zerbrochene-klang/\n\nhttps://www.planlos-leipzig.org/ev
 ents/der-zerbrochene-klang-gefaess-des-liedes-tacheles/
CATEGORIES:Film
LOCATION:Cinémathèque\, Karl-Liebknecht-Str. 109\, Leipzig
X-APPLE-STRUCTURED-LOCATION;VALUE=URI;X-ADDRESS=Karl-Liebknecht-Str. 109\, 
 Leipzig\, Deutschland;X-APPLE-RADIUS=100;X-TITLE=Cinémathèque:geo:0,0
END:VEVENT
BEGIN:VTIMEZONE
TZID:Europe/Berlin
X-LIC-LOCATION:Europe/Berlin
BEGIN:DAYLIGHT
DTSTART:20260329T030000
TZOFFSETFROM:+0100
TZOFFSETTO:+0200
TZNAME:CEST
END:DAYLIGHT
END:VTIMEZONE
END:VCALENDAR