BEGIN:VCALENDAR
VERSION:2.0
PRODID:-//wp-events-plugin.com//7.2.3.1//EN
TZID:Europe/Berlin
X-WR-TIMEZONE:Europe/Berlin
BEGIN:VEVENT
UID:8739@planlos-leipzig.org
DTSTART;TZID=Europe/Berlin:20260318T190000
DTEND;TZID=Europe/Berlin:20260318T190000
DTSTAMP:20260307T002918Z
URL:https://www.planlos-leipzig.org/events/ehrenfrau-ehrenamt-neu-gedacht-
 feministisch-solidarisch-und-radikal-fuersorglich-nancy-hochstein/
SUMMARY:Ehrenfrau. Ehrenamt neu gedacht: feministisch\, solidarisch und rad
 ikal fürsorglich - Nancy Hochstein
DESCRIPTION:\n\nEhrenamt: Fürsorge\, Macht und Struktur\n\nEhrenamt als Or
 t der Hoffnung und der Erschöpfung\, der Möglichkeit und der Unsichtbark
 eit: Nancy Hochstein verbindet in diesem Essay eigene aktivistische Erfahr
 ungen mit einer scharfen Analyse gesellschaftlicher Machtverhältnisse –
  und fordert\, das Ehrenamt neu zu denken: als Raum feministischer Praxis\
 , geteilter Verantwortung und radikaler Fürsorge.\n\nEine persönliche un
 d politische Abrechnung mit einem System\, das auf unbezahlter Fürsorgear
 beit basiert – und sich dabei stillschweigend auf die Selbstverständlic
 hkeit weiblichen Engagements verlässt.\n\nEin leidenschaftlicher Essay ü
 ber Verantwortung\, Anerkennung und das Recht\, nicht nur zu geben\, sonde
 rn zu gestalten.\n\n\n\nhttps://termine.linxxnet.de/event/ehrenfrau-ehrena
 mt-neu-gedacht-feministisch-solidarisch-und-radikal-fursorglich-nancy-hoch
 stein-palomaa-publishing\n\nhttps://www.planlos-leipzig.org/events/ehrenfr
 au-ehrenamt-neu-gedacht-feministisch-solidarisch-und-radikal-fuersorglich-
 nancy-hochstein/
CATEGORIES:Lesung
LOCATION:linXXnet\, Brandstraße 15\, Leipzig
X-APPLE-STRUCTURED-LOCATION;VALUE=URI;X-ADDRESS=Brandstraße 15\, Leipzig\,
  04277\, Deutschland;X-APPLE-RADIUS=100;X-TITLE=linXXnet:geo:0,0
END:VEVENT
BEGIN:VTIMEZONE
TZID:Europe/Berlin
X-LIC-LOCATION:Europe/Berlin
BEGIN:STANDARD
DTSTART:20251026T020000
TZOFFSETFROM:+0200
TZOFFSETTO:+0100
TZNAME:CET
END:STANDARD
END:VTIMEZONE
END:VCALENDAR