BEGIN:VCALENDAR
VERSION:2.0
PRODID:-//wp-events-plugin.com//7.2.3.1//EN
TZID:Europe/Berlin
X-WR-TIMEZONE:Europe/Berlin
BEGIN:VEVENT
UID:8728@planlos-leipzig.org
DTSTART;TZID=Europe/Berlin:20260325T190000
DTEND;TZID=Europe/Berlin:20260325T190000
DTSTAMP:20260307T005633Z
URL:https://www.planlos-leipzig.org/events/es-kann-jeden-treffen-%e2%80%92
 -ein-abend-zu-obdachlosigkeit-in-leipzig/
SUMMARY:„Es kann jede*n treffen“ ‒ Ein Abend zu Obdachlosigkeit in Le
 ipzig
DESCRIPTION:„Es kann jede*n treffen“ ‒ Ein Abend zu Obdachlosigkeit i
 n Leipzig\n\nObdachlosigkeit ist ein Thema\, das uns alle etwas angeht! Ge
 meinsam wollen wir an diesem Abend auf die Entwicklungen in Leipzig blicke
 n. Den Auftakt dafür bildet die Eröffnung der Ausstellung „Es kann jed
 e*n treffen“ mit den Fotos von Maria Notbohm\, deren Arbeiten auch noch 
 in den nächsten Monaten im INTERIM betrachtet werden können. Im Anschlus
 s daran werden wir zusammen mit einer Vertreterin der Peer-Gruppe und Tino
  Neufert von SAFE ‒ Straßensozialarbeit für Erwachsene über das Thema
  diskutieren.\n\nDa wir die Veranstaltung mit einem kleinen Sammelaufruf v
 erbinden\, würden wir uns freuen\, falls ihr Schlafsäcke und/oder Isomat
 ten entbehren könnt. Diese könnt ihr entweder direkt zur Veranstaltung m
 itbringen oder während der Öffnungszeiten im INTERIM (Dienstag\, Mittwoc
 h\, Donnerstag 10-19 Uhr und Freitag 10-15 Uhr) abgeben.\n\n\n\nDie Verans
 taltung findet im Rahmen der Housing Action Days 2026 – das vollständig
 e Programm findet ihr hier.\n\n\n\nhttps://leipzigfueralle.de/\n\nhttps://
 www.planlos-leipzig.org/events/es-kann-jeden-treffen-%e2%80%92-ein-abend-z
 u-obdachlosigkeit-in-leipzig/
ATTACH;FMTTYPE=image/jpeg:https://www.planlos-leipzig.org/wp-content/uploa
 ds/2026/03/planlos-Kachel-ohne-Gruppe-4.png
CATEGORIES:Diskussion
LOCATION:interim\, Demmeringstr. 32\, Leipzig
X-APPLE-STRUCTURED-LOCATION;VALUE=URI;X-ADDRESS=Demmeringstr. 32\, Leipzig\
 , Deutschland;X-APPLE-RADIUS=100;X-TITLE=interim:geo:0,0
END:VEVENT
BEGIN:VTIMEZONE
TZID:Europe/Berlin
X-LIC-LOCATION:Europe/Berlin
BEGIN:STANDARD
DTSTART:20251026T020000
TZOFFSETFROM:+0200
TZOFFSETTO:+0100
TZNAME:CET
END:STANDARD
END:VTIMEZONE
END:VCALENDAR