BEGIN:VCALENDAR
VERSION:2.0
PRODID:-//wp-events-plugin.com//7.2.3.1//EN
TZID:Europe/Berlin
X-WR-TIMEZONE:Europe/Berlin
BEGIN:VEVENT
UID:8737@planlos-leipzig.org
DTSTART;TZID=Europe/Berlin:20260329T120000
DTEND;TZID=Europe/Berlin:20260329T180000
DTSTAMP:20260307T005744Z
URL:https://www.planlos-leipzig.org/events/finissage-ausstellung-von-huett
 en-fassaden/
SUMMARY:Finissage Ausstellung „Von Hütten &amp\; Fassaden“
DESCRIPTION:Isabel Averdam (Fragen)\nJoshua Delissen (Foto)\nCarolin Krahl 
 (Hörstück)\n\nWie wohnen wir heute und warum? Gemeinschaftlich\, geselli
 g\, großzügig? Isabel Averdam (Architektin\, Leipzig) stellt Fragen zum 
 Wohnen\, die sich jede:r gestellt haben sollte.\n\nUntersucht von Joshua D
 elissen (Fotograf\, Leipzig) in einer fotografischen Gegenüberstellung ur
 sprünglicher Stock-Hütten\, überzeugend in ihrer Simplizität gegenübe
 r verfallener Leipziger Gründerzeitfassaden\, imposant jedoch nicht mehr 
 funktionsfähig.\n\nAkustisch bearbeitet von Carolin Krahl (Autorin\, Leip
 zig) im Hörstück „mutnegie“\, das vom Fallen ins Bodenlose durch Ent
 mietung erzählt – und im Gegenschnitt von einem konkreten Mietkampf in 
 Leipzig. Das Hörstück wird jeweils 13\, 15\, 17 Uhr aufgeführt.\n\n\n\n
 https://www.planlos-leipzig.org/events/finissage-ausstellung-von-huetten-f
 assaden/
ATTACH;FMTTYPE=image/jpeg:https://www.planlos-leipzig.org/wp-content/uploa
 ds/2026/03/Flyer_vonhuettenundfassaden-1-1.jpg
CATEGORIES:Ausstellung
LOCATION:Handstand &amp\; Moral\, Merseburger Straße 88b\, 04177 Leipzig
X-APPLE-STRUCTURED-LOCATION;VALUE=URI;X-ADDRESS=Merseburger Straße 88b\, 0
 4177 Leipzig\, Deutschland;X-APPLE-RADIUS=100;X-TITLE=Handstand & Moral:ge
 o:0,0
END:VEVENT
BEGIN:VTIMEZONE
TZID:Europe/Berlin
X-LIC-LOCATION:Europe/Berlin
BEGIN:DAYLIGHT
DTSTART:20260329T030000
TZOFFSETFROM:+0100
TZOFFSETTO:+0200
TZNAME:CEST
END:DAYLIGHT
END:VTIMEZONE
END:VCALENDAR