BEGIN:VCALENDAR
VERSION:2.0
PRODID:-//wp-events-plugin.com//7.2.3.1//EN
TZID:Europe/Berlin
X-WR-TIMEZONE:Europe/Berlin
BEGIN:VEVENT
UID:8929@planlos-leipzig.org
DTSTART;TZID=Europe/Berlin:20260423T190000
DTEND;TZID=Europe/Berlin:20260423T230000
DTSTAMP:20260420T150802Z
URL:https://www.planlos-leipzig.org/events/flinta-barabend-t-shirts-bedruc
 ken/
SUMMARY:FLINTA*-Barabend &amp\; T-Shirts bedrucken
DESCRIPTION:huhuuuu\,\nwir hoffen ihr habt euch vom masc Contest gut erholt
 ! Wir habens und freuen uns schon auf diesen Donnerstag gemütlich nen Get
 ränkle zu schlürfen und ein paar dykische T-Shirts zu designen! ⭐️ d
 ie nächsten 2 Donnerstage fällt Dyke*Donnerstag leider aus!\nKommt gerne
  vorbei!!✨\n\n&nbsp\;\n\nenglish:\nHiiiii\,\nwe hope you’ve recovered 
 well from the masc contest! We have\, and we’re already looking forward 
 to this Thursday— sipping a drink and designing some dykey T-shirts toge
 ther! ⭐️ The next two Thursdays\, Dyke*Donnerstag unfortunately won’
 t take place.\nFeel free to stop by!! ✨\nFLINTA*only-Event\n\nhttps://ww
 w.instagram.com/luise.hss/\n\nhttps://www.planlos-leipzig.org/events/flint
 a-barabend-t-shirts-bedrucken/
ATTACH;FMTTYPE=image/jpeg:https://www.planlos-leipzig.org/wp-content/uploa
 ds/2026/04/BARABEND-T-SHIRTS-BEDRUCKEN.png
LOCATION:Cafe Pfusch\, dohnanyistraße 7\, leipzig
X-APPLE-STRUCTURED-LOCATION;VALUE=URI;X-ADDRESS=dohnanyistraße 7\, leipzig
 \, Deutschland;X-APPLE-RADIUS=100;X-TITLE=Cafe Pfusch:geo:0,0
END:VEVENT
BEGIN:VTIMEZONE
TZID:Europe/Berlin
X-LIC-LOCATION:Europe/Berlin
BEGIN:DAYLIGHT
DTSTART:20260329T030000
TZOFFSETFROM:+0100
TZOFFSETTO:+0200
TZNAME:CEST
END:DAYLIGHT
END:VTIMEZONE
END:VCALENDAR