BEGIN:VCALENDAR
VERSION:2.0
PRODID:-//wp-events-plugin.com//7.2.3.1//EN
TZID:Europe/Berlin
X-WR-TIMEZONE:Europe/Berlin
BEGIN:VEVENT
UID:8080@planlos-leipzig.org
DTSTART;TZID=Europe/Berlin:20251205T190000
DTEND;TZID=Europe/Berlin:20251205T210000
DTSTAMP:20251114T203549Z
URL:https://www.planlos-leipzig.org/events/franziska-haug-arbeit-als-liter
 arisches-verfahren-der-produktion-von-geschlecht/
SUMMARY:Franziska Haug: Arbeit als literarisches Verfahren der Produktion v
 on Geschlecht
DESCRIPTION:Queerer Materialismus bei Thomas Brasch\, Gisela Elsner\, Elfri
 ede Jelinek\, Ronald M. Schernikau und im Pop\n\n„You wanna hot body? Yo
 u better work!“ Um ein Geschlecht zu haben\, bedarf es Arbeit\; Körpera
 rbeit\, Spracharbeit\, Sexarbeit\, Lohnarbeit\, Kunstarbeit … Denn das G
 eschlecht und die Identität eines Körpers ist so wenig gegeben\, wie sei
 ne Materie bedeutungslos ist.\nAngefangen bei DDR-Literatur über die Schw
 arze Botin bis zur Popmusik der neoliberalen Gegenwart\, geht das Buch den
  Bewegungen des Geschlecht-Machens\, dem Produzieren und Erarbeiten von Se
 xualität und Begehren\, nach. Anhand Thomas Braschs „Lovely Rita“\, E
 lfriede Jelineks „Was geschah\, nachdem Nora ihren Mann verlassen hatte 
 oder Stützen der Gesellschaften“\, Gisela Elsners „Das Berührungsver
 bot“\, Ronald M. Schernikaus „Kleinstadtnovelle“ und „LEGENDE“ s
 owie anhand von Popmusik\, wird ein literarisches Verfahren der Geschlecht
 erproduktion beschrieben\, das die Autorin Queerer Materialismus nennt.\n\
 nhttps://www.verbrecherverlag.de/shop/arbeit-als-literarisches-verfahren-d
 er-produktion-von-geschlecht/\n\nFranziska Haug ist 1989 in Cottbus gebore
 n und aufgewachsen. Zum Kunstpädagogik\, Soziologie und Germanistik-Studi
 um ist sie an die Goethe-Universität Frankfurt am Main gegangen und promo
 vierte dort zu Arbeit als literarisches Verfahren der Geschlechterprodukti
 on bei Thomas Brasch\, Gisela Elsner\, Elfriede Jelinek\, Ronald M. Schern
 ikau und Popmusik (Verbrecher Verlag 2025). Derzeit forscht sie als PostDo
 c im Projekt Light On! Queer Literatures and Cultures under Socialism zu Q
 ueerer DDR-Literatur. Franziska ist Gründungsmitglied des Kollektivs Dias
 poraOst\, das nach ästhetischen wie politischen Narrativen sucht\, um das
  Aufwachsen in Ostdeutschland im Umbruch von 1989/1990\, das Erbe einer DD
 R-Sozialisation und das Leben in der Diaspora der BRD zu verstehen.\n\n&nb
 sp\;\n\nInformationen zur Barrierefreiheit findet ihr hier: https://monali
 esa.de/kontakt\n\nhttps://monaliesa.de/veranstaltungen/buchvorstellung-arb
 eit-als-literarisches-verfahren-der-produktion-von-geschlecht\n\nhttps://w
 ww.planlos-leipzig.org/events/franziska-haug-arbeit-als-literarisches-verf
 ahren-der-produktion-von-geschlecht/
CATEGORIES:Buchvorstellung
LOCATION:MONAliesA\, Bernhard-Göring-Straße 152\, Leipzig
X-APPLE-STRUCTURED-LOCATION;VALUE=URI;X-ADDRESS=Bernhard-Göring-Straße 15
 2\, Leipzig\, 04277\, Deutschland;X-APPLE-RADIUS=100;X-TITLE=MONAliesA:geo
 :0,0
END:VEVENT
BEGIN:VTIMEZONE
TZID:Europe/Berlin
X-LIC-LOCATION:Europe/Berlin
BEGIN:STANDARD
DTSTART:20251026T020000
TZOFFSETFROM:+0200
TZOFFSETTO:+0100
TZNAME:CET
END:STANDARD
END:VTIMEZONE
END:VCALENDAR