BEGIN:VCALENDAR
VERSION:2.0
PRODID:-//wp-events-plugin.com//7.2.3.1//EN
TZID:Europe/Berlin
X-WR-TIMEZONE:Europe/Berlin
BEGIN:VEVENT
UID:8759@planlos-leipzig.org
DTSTART;TZID=Europe/Berlin:20260307T180000
DTEND;TZID=Europe/Berlin:20260307T235900
DTSTAMP:20260306T114232Z
URL:https://www.planlos-leipzig.org/events/free-sudan-kuefa-und-musik/
SUMMARY:FREE SUDAN: KüfA und Musik
DESCRIPTION:Musik ab 20:00\n\nFunky sudanische Beats\n\njimjammer\n\n&nbsp\
 ;\n\nJede Spende geht an Aktivist*Innen die in Sudan arbeiten\n\n\n\nhttps
 ://www.planlos-leipzig.org/events/free-sudan-kuefa-und-musik/
ATTACH;FMTTYPE=image/jpeg:https://www.planlos-leipzig.org/wp-content/uploa
 ds/2026/03/photo_2026-03-05_20-37-12.jpg
CATEGORIES:Soliparty
LOCATION:AmEnde Laden\, Georg-Schwarz-Str. 178\, Leutzsch/Leipzig
X-APPLE-STRUCTURED-LOCATION;VALUE=URI;X-ADDRESS=Georg-Schwarz-Str. 178\, Le
 utzsch/Leipzig\, Deutschland;X-APPLE-RADIUS=100;X-TITLE=AmEnde Laden:geo:0
 ,0
END:VEVENT
BEGIN:VTIMEZONE
TZID:Europe/Berlin
X-LIC-LOCATION:Europe/Berlin
BEGIN:STANDARD
DTSTART:20251026T020000
TZOFFSETFROM:+0200
TZOFFSETTO:+0100
TZNAME:CET
END:STANDARD
END:VTIMEZONE
END:VCALENDAR