BEGIN:VCALENDAR
VERSION:2.0
PRODID:-//wp-events-plugin.com//7.2.3.1//EN
TZID:Europe/Berlin
X-WR-TIMEZONE:Europe/Berlin
BEGIN:VEVENT
UID:8714@planlos-leipzig.org
DTSTART;TZID=Europe/Berlin:20260315T120000
DTEND;TZID=Europe/Berlin:20260315T180000
DTSTAMP:20260305T080722Z
URL:https://www.planlos-leipzig.org/events/gemeinsam-transpis-malen/
SUMMARY:Gemeinsam Transpis malen
DESCRIPTION:Gemeinsam Transpis malen\n\nUm stadt- und mietenpolitische Them
 en in den Straßen und an den Häusern sichtbar zu machen und auf die stat
 tfindenden Housing Action Days 2026 in Leipzig hinzuweisen\, werden in gem
 ütlicher Atmosphäre gemeinsam Pinsel und Spühdosen geschwungen und mark
 ige Sprüche und aussagekräftige Parolen auf Papier und Stoff gebracht.\n
 \nLasst uns unsere Fassaden nutzen und die Häuse zum Sprechen bringen –
  denn: die Häuser denen\, die drin wohnen!\n\nEinige Materialien wie Pins
 el\, Farben\, Schablonen und gute Parolen werden gestellt. Für die gute L
 aune gibt’s Musik\, kühle Getränke\, Kaffee und Kuchen.\n\n-----------
 ---------------------------\nDie Veranstaltung findet im Rahmen der Housin
 g Action Days 2026 statt - das vollständige Programm findet ihr unter: ht
 tps://leipzigfueralle.de\n--------------------------------------\n\nhttps:
 //leipzigfueralle.de\n\nhttps://www.planlos-leipzig.org/events/gemeinsam-t
 ranspis-malen/
ATTACH;FMTTYPE=image/jpeg:https://www.planlos-leipzig.org/wp-content/uploa
 ds/2026/03/planlos-kiezvernetzung-west.png
CATEGORIES:Workshop
LOCATION:Meuterei\, Zollschuppenstraße 1\, Leipzig
X-APPLE-STRUCTURED-LOCATION;VALUE=URI;X-ADDRESS=Zollschuppenstraße 1\, Lei
 pzig\, Deutschland;X-APPLE-RADIUS=100;X-TITLE=Meuterei:geo:0,0
END:VEVENT
BEGIN:VTIMEZONE
TZID:Europe/Berlin
X-LIC-LOCATION:Europe/Berlin
BEGIN:STANDARD
DTSTART:20251026T020000
TZOFFSETFROM:+0200
TZOFFSETTO:+0100
TZNAME:CET
END:STANDARD
END:VTIMEZONE
END:VCALENDAR