BEGIN:VCALENDAR
VERSION:2.0
PRODID:-//wp-events-plugin.com//7.2.3.1//EN
TZID:Europe/Berlin
X-WR-TIMEZONE:Europe/Berlin
BEGIN:VEVENT
UID:8738@planlos-leipzig.org
DTSTART;TZID=Europe/Berlin:20260318T190000
DTEND;TZID=Europe/Berlin:20260318T190000
DTSTAMP:20260306T114351Z
URL:https://www.planlos-leipzig.org/events/gesellschaft-mit-beschraenkter-
 hoffnung-karsten-krampitz/
SUMMARY:Gesellschaft mit beschränkter Hoffnung – Karsten Krampitz
DESCRIPTION:\n\nDie unglaubliche Geschichte einer gelebten Utopie mitten in
  der DDR: die »Krüppelkommune« von Hartroda\n\nArnstadt\, Thüringen\, 
 Ende der 70er Jahre. In einem Heim für behinderte Jugendliche beschließe
 n vier Freunde\, die sich kaum bewegen können: Wir brechen aus. Von Rente
  und Pflegegeld wollen sie sich Pfleger finanzieren\, ein Haus bekommen si
 e von der Kirche – das alte Pfarrhaus in Hartroda\, im Altenburger Land.
 \n\nSo beginnt die Geschichte einer Kommune\, die völlig aus der Zeit und
  aus dem Land gefallen ist. Die einen bekommen Hilfe\, die anderen Asyl 
 – vor der Schinderei im Staatsbetrieb\, vor einem Leben im stupiden Krei
 slauf von Arbeiten\, Saufen\, Schlafen. Eine Gemeinschaft der Gleichen\, i
 n der alles geteilt wird – Geld und Bücher\, Platten und Bier\, aber au
 ch alle Gebrechen.\n\nEine Gemeinschaft der Aussortierten\, die sich mit W
 itz und Chuzpe das Undenkbare erkämpft: ein selbstbestimmtes Leben\, viel
 leicht sogar Freiheit. Unter dem Schirm der Kirche wird sie\, so scheint e
 s zumindest\, vom DDR-Apparat in Ruhe gelassen.\n\nIntellektueller Kopf de
 r Gemeinschaft ist Gruns. Er wird vom schweigsamen Mozek gepflegt\, der vo
 m Dachboden aus internationale Fernschachturniere bestreitet und sich übe
 r seine Vergangenheit bedeckt hält. Denn Mozek\, ehemaliger Grenzer\, ist
  auf der Flucht vor der eigenen Schuld.\n\nIch hab meine Sache auf nix ein
 gestellt / auf gar nix\, überhaupt nix\, heißt es in einem Lied der Band
  Mischpoke\, die zum Freundeskreis der Kommune gehört. Als die DDR zusamm
 enbricht\, wird deutlich\, dass es auch die Mauer war\, die die Gemeinscha
 ft von Hartroda zusammengehalten hat.\n\n\n\nhttps://termine.linxxnet.de/e
 vent/gesellschaft-mit-beschrankter-hoffnung-karsten-krampitz-edition-nauti
 lus\n\nhttps://www.planlos-leipzig.org/events/gesellschaft-mit-beschraenkt
 er-hoffnung-karsten-krampitz/
CATEGORIES:Lesung
LOCATION:interim\, Demmeringstr. 32\, Leipzig
X-APPLE-STRUCTURED-LOCATION;VALUE=URI;X-ADDRESS=Demmeringstr. 32\, Leipzig\
 , Deutschland;X-APPLE-RADIUS=100;X-TITLE=interim:geo:0,0
END:VEVENT
BEGIN:VTIMEZONE
TZID:Europe/Berlin
X-LIC-LOCATION:Europe/Berlin
BEGIN:STANDARD
DTSTART:20251026T020000
TZOFFSETFROM:+0200
TZOFFSETTO:+0100
TZNAME:CET
END:STANDARD
END:VTIMEZONE
END:VCALENDAR