BEGIN:VCALENDAR
VERSION:2.0
PRODID:-//wp-events-plugin.com//7.2.3.1//EN
TZID:Europe/Berlin
X-WR-TIMEZONE:Europe/Berlin
BEGIN:VEVENT
UID:8943@planlos-leipzig.org
DTSTART;TZID=Europe/Berlin:20260503T160000
DTEND;TZID=Europe/Berlin:20260503T200000
DTSTAMP:20260424T125356Z
URL:https://www.planlos-leipzig.org/events/hackbar-12/
SUMMARY:Hackbar
DESCRIPTION:Am 03.05.2026 findet mal wieder die Hackbar statt. Kommt gerne 
 mit euren (Technik)-Problemen oder auch einfach nur so vorbei zum Pizzaess
 en und Limotrinken. (Georg-Schwartz-Str.19)\n\n\n\nhttps://www.planlos-lei
 pzig.org/events/hackbar-12/
ATTACH;FMTTYPE=image/jpeg:https://www.planlos-leipzig.org/wp-content/uploa
 ds/2026/04/signal-2026-04-22-171116.png
CATEGORIES:Beratung,Diskussion,Plenum,Vernetzungstreffen
LOCATION:Autodidaktische Initiative (ADI)\, Georg-Schwarz-Str. 19\, Leipzig
X-APPLE-STRUCTURED-LOCATION;VALUE=URI;X-ADDRESS=Georg-Schwarz-Str. 19\, Lei
 pzig\, Deutschland;X-APPLE-RADIUS=100;X-TITLE=Autodidaktische Initiative (
 ADI):geo:0,0
END:VEVENT
BEGIN:VTIMEZONE
TZID:Europe/Berlin
X-LIC-LOCATION:Europe/Berlin
BEGIN:DAYLIGHT
DTSTART:20260329T030000
TZOFFSETFROM:+0100
TZOFFSETTO:+0200
TZNAME:CEST
END:DAYLIGHT
END:VTIMEZONE
END:VCALENDAR