BEGIN:VCALENDAR
VERSION:2.0
PRODID:-//wp-events-plugin.com//7.2.3.1//EN
TZID:Europe/Berlin
X-WR-TIMEZONE:Europe/Berlin
BEGIN:VEVENT
UID:8548@planlos-leipzig.org
DTSTART;TZID=Europe/Berlin:20260315T110000
DTEND;TZID=Europe/Berlin:20260315T130000
DTSTAMP:20260121T134420Z
URL:https://www.planlos-leipzig.org/events/historischer-rundgang-auf-dem-g
 elaende-der-ehemaligen-staedtischen-arbeitsanstalt/
SUMMARY:Historischer Rundgang auf dem Gelände der ehemaligen Städtischen 
 Arbeitsanstalt
DESCRIPTION:+++ Rahmenprogramm zur Wanderausstellung »Die Verleugneten. Op
 fer des Nationalsozialismus 1933 – 1945 – heute« +++\nAusstellung im 
 Neuen Rathaus der Stadt Leipzig (Untere Wandelhalle) vom 27. Januar bis 30
 . März 2026\nDer Rundgang informiert über die mehr als hundertjährige G
 eschichte des Komplexes Riebeckstraße 63 in Leipzig\, die vor allem von A
 usgrenzung\, „Verwahrung“ und Disziplinierung gesellschaftlichen Auße
 nseitertums geprägt ist. Im Mittelpunkt des Rundgangs stehen die Brüche 
 und die Kontinuitäten des Gebäudekomplexes in Bezug auf Themen wie Arbei
 t\, Sexualität und Devianz. Besonders der Alltag von Betroffenen wird anh
 and biografischer Beispiele veranschaulicht. Am 8. November 1892 eröffnet
 \, war die Städtische Arbeitsanstalt über Jahrzehnte Inbegriff von repre
 ssiver Sozialpolitik\, Stigmatisierung\, Ausgrenzung und Arbeitszwang.\n 
 Die Initiative Riebeckstraße 63 setzt sich für einen Gedenk-\, Lern- und
  Begegnungsort auf dem Gelände der ehemaligen Städtischen Arbeitsanstalt
  ein.\n\n&nbsp\;\n\nVeranstaltung der Initiative Riebeckstraße 63.\n\nDie
  Veranstaltung findet im Rahmen der Wanderausstellung »Die Verleugneten. 
 Opfer des Nationalsozialismus 1933 – 1945 – heute« statt. Ein Ausste
 llungsprojekt der Stiftung Denkmal für die ermordeten Juden Europas und d
 er KZ-Gedenkstätte Flossenbürg in Kooperation mit der Stiftung Sächsisc
 he Gedenkstätten zur Erinnerung an die Opfer politischer Gewaltherrschaft
 \nVeranstalter: Stadt Leipzig in Zusammenarbeit mit der Gedenkstätte für
  Zwangsarbeit in Leipzig und der Initiative Riebeckstraße 63 e.V.\n\nhttp
 s://www.zwangsarbeit-in-leipzig.de/de/zwangsarbeit-in-leipzig/veranstaltun
 gen/veranstaltungen-archiv/2026/11\n\nhttps://www.planlos-leipzig.org/even
 ts/historischer-rundgang-auf-dem-gelaende-der-ehemaligen-staedtischen-arbe
 itsanstalt/
CATEGORIES:Rundgang
LOCATION:Riebeckstraße 63\, Riebeckstraße 63\, Leipzig
X-APPLE-STRUCTURED-LOCATION;VALUE=URI;X-ADDRESS=Riebeckstraße 63\, Leipzig
 \, Deutschland;X-APPLE-RADIUS=100;X-TITLE=Riebeckstraße 63:geo:0,0
END:VEVENT
BEGIN:VTIMEZONE
TZID:Europe/Berlin
X-LIC-LOCATION:Europe/Berlin
BEGIN:STANDARD
DTSTART:20251026T020000
TZOFFSETFROM:+0200
TZOFFSETTO:+0100
TZNAME:CET
END:STANDARD
END:VTIMEZONE
END:VCALENDAR