BEGIN:VCALENDAR
VERSION:2.0
PRODID:-//wp-events-plugin.com//7.2.3.1//EN
TZID:Europe/Berlin
X-WR-TIMEZONE:Europe/Berlin
BEGIN:VEVENT
UID:8761@planlos-leipzig.org
DTSTART;TZID=Europe/Berlin:20260328T163000
DTEND;TZID=Europe/Berlin:20260328T163000
DTSTAMP:20260311T080213Z
URL:https://www.planlos-leipzig.org/events/impulsvortrag-klinge10-mietshae
 usersyndikat/
SUMMARY:Impulsvortrag Klinge10 (Mietshäusersyndikat)
DESCRIPTION:Wir bauen uns das Recht auf Wohnen! Die Klinge10 von der Idee z
 um Einzug von 2017 bis 2023 - Ein Impulsvortrag zur Entstehung\, Planung u
 nd Realisierung des ersten Mietshäuser Syndikat Neubaus in Leipzig\, am 2
 8. März um 16.30 Uhr im Gemeinschaftsraum (Erdgeschoss) des Hausprojekts 
 &quot;Klinge10&quot;.\n\nhttps://klinge10.de/\n\n\n\nDie Veranstaltung findet im Rah
 men der Housing Action Days 2026 statt – das vollständige Programm find
 et ihr unter: https://leipzigfueralle.de\n\n\n\n&nbsp\;\n\nhttps://leipzig
 fueralle.de/\n\nhttps://www.planlos-leipzig.org/events/impulsvortrag-kling
 e10-mietshaeusersyndikat/
ATTACH;FMTTYPE=image/jpeg:https://www.planlos-leipzig.org/wp-content/uploa
 ds/2026/03/planlos-klinge10.png
CATEGORIES:Infoveranstaltung
LOCATION:Klingenstr. 10\, Klingenstr. 10\, Leipzig Plagwitz
X-APPLE-STRUCTURED-LOCATION;VALUE=URI;X-ADDRESS=Klingenstr. 10\, Leipzig Pl
 agwitz\, Deutschland;X-APPLE-RADIUS=100;X-TITLE=Klingenstr. 10:geo:0,0
END:VEVENT
BEGIN:VTIMEZONE
TZID:Europe/Berlin
X-LIC-LOCATION:Europe/Berlin
BEGIN:STANDARD
DTSTART:20251026T020000
TZOFFSETFROM:+0200
TZOFFSETTO:+0100
TZNAME:CET
END:STANDARD
END:VTIMEZONE
END:VCALENDAR