BEGIN:VCALENDAR
VERSION:2.0
PRODID:-//wp-events-plugin.com//7.2.3.1//EN
TZID:Europe/Berlin
X-WR-TIMEZONE:Europe/Berlin
BEGIN:VEVENT
UID:8721@planlos-leipzig.org
DTSTART;TZID=Europe/Berlin:20260324T180000
DTEND;TZID=Europe/Berlin:20260324T200000
DTSTAMP:20260307T005609Z
URL:https://www.planlos-leipzig.org/events/infoabend-ehrenamt-bei-der-kont
 aktstelle-wohnen/
SUMMARY:Infoabend: Ehrenamt bei der Kontaktstelle Wohnen
DESCRIPTION:Infoabend: Ehrenamt bei der Kontaktstelle Wohnen\n\nGeflüchtet
 e erleben bei der eh schon schwierigen Wohnungssuche häufig rassistischen
  Diskriminierungen. Die Kontaktstelle Wohnen ermöglicht ehrenamtliches En
 gagement zur Unterstützung von Geflüchteten bei der Wohnungssuche und be
 im Ankommen im neuen Wohnumfeld. Dabei geben Ehrenamtliche Workshops zum B
 ewerbungsprozess\, begleiten Wohnungsbesichtigungen und unterstützen beim
  Kontakt mit Jobcenter und Vermietenden. Neu sind Tandems im Quartier zur 
 Förderung sozialer und struktureller Teilhabe. Komm vorbei\, wenn du mehr
  erfahren und dabei sein möchtest!\n\nhttps://www.kontaktstelle-wohnen.de
 /\n\n\n\nDie Veranstaltung findet im Rahmen der Housing Action Days 2026 s
 tatt - das vollständige Programm findet ihr hier.\n\n\n\nhttps://leipzigf
 ueralle.de/\n\nhttps://www.planlos-leipzig.org/events/infoabend-ehrenamt-b
 ei-der-kontaktstelle-wohnen/
ATTACH;FMTTYPE=image/jpeg:https://www.planlos-leipzig.org/wp-content/uploa
 ds/2026/03/planlos-kontaktstelle-Wohnen.png
CATEGORIES:Infoveranstaltung
LOCATION:Handstand &amp\; Moral\, Merseburger Straße 88b\, 04177 Leipzig
X-APPLE-STRUCTURED-LOCATION;VALUE=URI;X-ADDRESS=Merseburger Straße 88b\, 0
 4177 Leipzig\, Deutschland;X-APPLE-RADIUS=100;X-TITLE=Handstand & Moral:ge
 o:0,0
END:VEVENT
BEGIN:VTIMEZONE
TZID:Europe/Berlin
X-LIC-LOCATION:Europe/Berlin
BEGIN:STANDARD
DTSTART:20251026T020000
TZOFFSETFROM:+0200
TZOFFSETTO:+0100
TZNAME:CET
END:STANDARD
END:VTIMEZONE
END:VCALENDAR