BEGIN:VCALENDAR
VERSION:2.0
PRODID:-//wp-events-plugin.com//7.2.3.1//EN
TZID:Europe/Berlin
X-WR-TIMEZONE:Europe/Berlin
BEGIN:VEVENT
UID:8724@planlos-leipzig.org
DTSTART;TZID=Europe/Berlin:20260325T183000
DTEND;TZID=Europe/Berlin:20260325T200000
DTSTAMP:20260307T005628Z
URL:https://www.planlos-leipzig.org/events/infoveranstaltung-die-stadt-geh
 oert-uns-allen/
SUMMARY:Infoveranstaltung &quot;Die Stadt gehört uns allen!&quot;
DESCRIPTION:Infoveranstaltung &quot;Die Stadt gehört uns allen!&quot;\nvon DIE LINK
 E Leipzig\n\nDie Mieten steigen\, die Nebenkostenabrechnungen sind undurch
 sichtig\, und wer sich wehren will\, steht oft allein da. Die Linke in Lei
 pzig glaubt\, dass sich daran etwas ändern lässt\, aber nicht mit Appell
 en und auch nicht nur an der Wahlurne. In Leipzig haben sie angefangen\, m
 it Mieter*innen gemeinsam die Heizkostenabrechnungen zu prüfen und ganz k
 onkret Geld zurückzuholen. Das ist klein\, aber es zeigt: Wenn Leute merk
 en\, dass sie zusammen etwas bewirken können\, trauen sie sich auch gemei
 nsam größere Konflikte anzugehen.Die Linke erzählt\, wie sie im nächst
 en Jahr den Mietenwucher in Leipzig angehen will und warum sie dabei auf O
 rganizing setzt statt auf Stellvertreterpolitik und wie eine solidarische 
 Praxis vielleicht auch denen eine Perspektive geben kann\, die politisch l
 ängst abgeschrieben wurden.\n\nhttps://www.mietdetektive.de/\n\n\n\nDie V
 eranstaltung findet im Rahmen der Housing Action Days 2026 statt - das vol
 lständige Programm findet ihr hier.\n\n\n\nhttps://leipzigfueralle.de/\n\
 nhttps://www.planlos-leipzig.org/events/infoveranstaltung-die-stadt-gehoer
 t-uns-allen/
ATTACH;FMTTYPE=image/jpeg:https://www.planlos-leipzig.org/wp-content/uploa
 ds/2026/03/planlos-die-linke.png
CATEGORIES:Infoveranstaltung
LOCATION:Stadtteilladen Klinke\, Volckmarstraße 5\, Reudnitz
X-APPLE-STRUCTURED-LOCATION;VALUE=URI;X-ADDRESS=Volckmarstraße 5\, Reudnit
 z\, Deutschland;X-APPLE-RADIUS=100;X-TITLE=Stadtteilladen Klinke:geo:0,0
END:VEVENT
BEGIN:VTIMEZONE
TZID:Europe/Berlin
X-LIC-LOCATION:Europe/Berlin
BEGIN:STANDARD
DTSTART:20251026T020000
TZOFFSETFROM:+0200
TZOFFSETTO:+0100
TZNAME:CET
END:STANDARD
END:VTIMEZONE
END:VCALENDAR