BEGIN:VCALENDAR
VERSION:2.0
PRODID:-//wp-events-plugin.com//7.2.3.1//EN
TZID:Europe/Berlin
X-WR-TIMEZONE:Europe/Berlin
BEGIN:VEVENT
UID:8123@planlos-leipzig.org
DTSTART;TZID=Europe/Berlin;VALUE=DATE:20251212
DTEND;TZID=Europe/Berlin;VALUE=DATE:20251215
DTSTAMP:20251123T124438Z
URL:https://www.planlos-leipzig.org/events/international-antifa-weekend/
SUMMARY:International Antifa Weekend
DESCRIPTION:\n\n\n\nAm 12.\,13. und 14. Dezember veranstalten wir ein antif
 aschistisches und internationales Eventwochenende. Gemeinsam mit Genoss:in
 nen aus ganz Europa wollen wir uns zusammen über die aktuelle Repression 
 gegen linke Bewegungen austauschen und Erfahrungen teilen.\n\n\n\n\n\n\n\n
 \nZiel ist es\, gemeinsam über Antirepression nachzudenken und neue Verbi
 ndungen zu schaffen.\n\nDa viele unserer Genoss:innen derzeit überall in 
 Europa inhaftiert sind\, finden wir dass es an der Zeit ist\, neue Strateg
 ien zu diskutieren\, um dem autoritären Angriff auf unsere Bewegungen ent
 gegenzutreten.\n\nDie Veranstaltung findet in Leipzig statt.\n\nWir würde
 n uns sehr freuen\, euch dort zu sehen und unsere Erfahrungen miteinander 
 zu teilen. Wenn ihr Fragen habt oder eine Unterkunft für das Wochenende b
 raucht –\n\nschreibt uns gerne an: international-antifa-weekend@systemli
 .org\n\nBis Bald &lt\;3\n\neng:\n\nINTERNATIONAL SOLIDARITY EVENT\n\nFor t
 he weekend of the 12.\, 13\, and 14th December we are planning an event ab
 out antifascism and repression in Europe. We invited many different groups
  with different perspectives.\n\nThe purpose is to think about antirepress
 ion in a collective way and create new links. Since a lot of our comrades 
 are currently imprisoned all over europe\, we think its time to discuss ne
 w strategies to face the authoritarian uprise against our revolutionary mo
 vements.\n\nThe event will take place in Leipzig\, Germany.\n\nWe would lo
 ve to have you there and share our experiences with one another.\n\nIf you
  have any questions or need a place to stay for the weekend – don’t he
 sitate to mail us at:\n\ninternational-antifa-weekend@systemli.org\n\nSee 
 you soon &lt\;3\n\n\n\n\n\n\n\nhttps://www.planlos-leipzig.org/events/inte
 rnational-antifa-weekend/
ATTACH;FMTTYPE=image/jpeg:https://www.planlos-leipzig.org/wp-content/uploa
 ds/2025/11/International-Antifa-Weekend.jpeg
CATEGORIES:Festival
LOCATION:Leipzig Connewitz\, Connewitz\, Leipzig
X-APPLE-STRUCTURED-LOCATION;VALUE=URI;X-ADDRESS=Connewitz\, Leipzig\, Deuts
 chland;X-APPLE-RADIUS=100;X-TITLE=Leipzig Connewitz:geo:0,0
END:VEVENT
BEGIN:VTIMEZONE
TZID:Europe/Berlin
X-LIC-LOCATION:Europe/Berlin
BEGIN:STANDARD
DTSTART:20251026T020000
TZOFFSETFROM:+0200
TZOFFSETTO:+0100
TZNAME:CET
END:STANDARD
END:VTIMEZONE
END:VCALENDAR