BEGIN:VCALENDAR
VERSION:2.0
PRODID:-//wp-events-plugin.com//7.2.3.1//EN
TZID:Europe/Berlin
X-WR-TIMEZONE:Europe/Berlin
BEGIN:VEVENT
UID:8624@planlos-leipzig.org
DTSTART;TZID=Europe/Berlin:20260212T180000
DTEND;TZID=Europe/Berlin:20260212T213000
DTSTAMP:20260205T171425Z
URL:https://www.planlos-leipzig.org/events/kein-fussballspiel-2/
SUMMARY:Kein Fußballspiel
DESCRIPTION:\nDonnerstag | 18:00 bis 21:30 Uhr\n\nVERANSTALTUNGSBLOCK TEIL 
 2\nINPUT-/VORTRAG &amp\; DISKUSSION\n18.00 – 18.45 Uhr\nWie bestimmte Ak
 teur:innen hinter dem Palästina-Aktivismus den Zusammenhalt unterminieren
  und Hass fördern II\nReferentin: M. ARKADIEFF\nWie wirkt die Medienstrat
 egie der Hamas in Aktion über Akteur:innen im Westen – und was könnten
  im Gegensatz dazu pro-palästinensische Positionen sein? Der vonseiten vi
 eler jüdischer Stimmen oft beklagte antiisraelische Bias (engl. für Verz
 errung/Voreingenommenheit) geht mittlerweile in offene Terror-Apologetik 
 über. Wir werfen einen Blick auf die Dynamik und ihre aktiven ideologisch
 en Sponsoren.\n\n19.00 – 21.30 Uhr\nIsraelische Realitäten nach dem 7. 
 Oktober 2023\nReferent: OLIVER VRANKOVIC\nDas Massaker an den Juden im wes
 tlichen Negev am 7. Oktober 2023 hat Israel als materiellen Schutzraum fü
 r Juden:Jüdinnen nachhaltig erschüttert und die Gesellschaft traumatisie
 rt. Wo stehen „Linkszionisten“ ideologisch\, und was sind die Folgen d
 es 7.10.23 für das Friedenslager? Wegen der Desillusionierung über die M
 öglichkeit eines friedlichen Neben- und Miteinanders\, wegen der gewaltig
 en Umbrüche im Nahen Osten und dem Anstieg des weltweiten Antisemitismus 
 ist ein Neuanfang emotional wie sozial eine enorme Herausforderung. An den
  Realitäten\, die Israelis zum Umdenken gezwungen haben\, lassen sich auc
 h von deutschen Medien und Entscheidungsträger:innen gepflegte Irrtümer 
 aufdecken.\n\nEintritt: frei\n\n\n\n\n\nhttps://www.planlos-leipzig.org/ev
 ents/kein-fussballspiel-2/
CATEGORIES:Diskussion,Vortrag
LOCATION:Frauenkultur Leipzig\, Windscheidstr. 51\, Leipzig
X-APPLE-STRUCTURED-LOCATION;VALUE=URI;X-ADDRESS=Windscheidstr. 51\, Leipzig
 \, 04277\, Deutschland;X-APPLE-RADIUS=100;X-TITLE=Frauenkultur Leipzig:geo
 :0,0
END:VEVENT
BEGIN:VTIMEZONE
TZID:Europe/Berlin
X-LIC-LOCATION:Europe/Berlin
BEGIN:STANDARD
DTSTART:20251026T020000
TZOFFSETFROM:+0200
TZOFFSETTO:+0100
TZNAME:CET
END:STANDARD
END:VTIMEZONE
END:VCALENDAR