BEGIN:VCALENDAR
VERSION:2.0
PRODID:-//wp-events-plugin.com//7.2.3.1//EN
TZID:Europe/Berlin
X-WR-TIMEZONE:Europe/Berlin
BEGIN:VEVENT
UID:8774@planlos-leipzig.org
DTSTART;TZID=Europe/Berlin:20260517T200000
DTEND;TZID=Europe/Berlin:20260517T200000
DTSTAMP:20260311T080741Z
URL:https://www.planlos-leipzig.org/events/konny-kleinkunztpunk-praesentie
 rt-turgutz-briefe-in-a-moll/
SUMMARY:Konny Kleinkunztpunk präsentiert: Turgutz - Briefe in A-Moll
DESCRIPTION:Konny Kleinkunztpunk präsentiert:\n\nTurgutz - Briefe in A-Mol
 l\n\nLinkes Musiktheater gegen Fatalismus\nDie Zeiten sind\, wie sie sind 
 - und die Kämpfer:innen sind müde.\nDa kannste nix machen. Außer allen 
 erzählen\, die es nicht hören wollen\, dass es so ist\, und früher sich
  alles zumindest mal anders angefühlt hat\, oder?\nWie bleiben wir handlu
 ngsfähig\, wenn Angst und Zynismus um sich greifen? Turgutz schaut zurüc
 k auf Lebensstationen und auf eine linke Bewegung\, um nach vorne schauen 
 zu können.\nEin musikalisch-szenisches Programm aus Liedern\, Briefpassag
 en und Theaterelementen gegen das Aufgeben.\n\nhttps://turgutz.de/\n\nhttp
 s://www.planlos-leipzig.org/events/konny-kleinkunztpunk-praesentiert-turgu
 tz-briefe-in-a-moll/
CATEGORIES:Theater
LOCATION:naTo\, Karl-Liebknecht-Straße 46\, Leipzig
X-APPLE-STRUCTURED-LOCATION;VALUE=URI;X-ADDRESS=Karl-Liebknecht-Straße 46\
 , Leipzig\, Deutschland;X-APPLE-RADIUS=100;X-TITLE=naTo:geo:0,0
END:VEVENT
BEGIN:VTIMEZONE
TZID:Europe/Berlin
X-LIC-LOCATION:Europe/Berlin
BEGIN:DAYLIGHT
DTSTART:20260329T030000
TZOFFSETFROM:+0100
TZOFFSETTO:+0200
TZNAME:CEST
END:DAYLIGHT
END:VTIMEZONE
END:VCALENDAR