BEGIN:VCALENDAR
VERSION:2.0
PRODID:-//wp-events-plugin.com//7.2.3.1//EN
TZID:Europe/Berlin
X-WR-TIMEZONE:Europe/Berlin
BEGIN:VEVENT
UID:8765@planlos-leipzig.org
DTSTART;TZID=Europe/Berlin:20260312T183000
DTEND;TZID=Europe/Berlin:20260312T210000
DTSTAMP:20260307T002852Z
URL:https://www.planlos-leipzig.org/events/kueche-fuer-alle/
SUMMARY:Küche für Alle
DESCRIPTION:Hallo ihr Lieben\n\nZur Begrüßung des sonnigen Wetters servie
 ren wir diesmal ein Blumenkohl-Möhren-Curry.“\n\nAb 18:30 Tischen wir a
 uf\, erscheint zahlreich und hungrig.\n\nAlles Essen ist auf Spendenbasis 
 also zahlt wie viel ihr mögt und könnt\n\nDie Küfa findet im Wasserscha
 den statt. Location gibts auf Anfrage\n\nWir freuen uns auf euch!\n\n\n\nh
 ttps://www.planlos-leipzig.org/events/kueche-fuer-alle/
ATTACH;FMTTYPE=image/jpeg:https://www.planlos-leipzig.org/wp-content/uploa
 ds/2026/03/IMG_20260306_161310_553.jpg
CATEGORIES:Küfa
LOCATION:Wasserschaden\, //\, Leipzig
X-APPLE-STRUCTURED-LOCATION;VALUE=URI;X-ADDRESS=//\, Leipzig\, Deutschland;
 X-APPLE-RADIUS=100;X-TITLE=Wasserschaden:geo:0,0
END:VEVENT
BEGIN:VTIMEZONE
TZID:Europe/Berlin
X-LIC-LOCATION:Europe/Berlin
BEGIN:STANDARD
DTSTART:20251026T020000
TZOFFSETFROM:+0200
TZOFFSETTO:+0100
TZNAME:CET
END:STANDARD
END:VTIMEZONE
END:VCALENDAR