BEGIN:VCALENDAR
VERSION:2.0
PRODID:-//wp-events-plugin.com//7.2.3.1//EN
TZID:Europe/Berlin
X-WR-TIMEZONE:Europe/Berlin
BEGIN:VEVENT
UID:8762@planlos-leipzig.org
DTSTART;TZID=Europe/Berlin:20260328T180000
DTEND;TZID=Europe/Berlin:20260328T180000
DTSTAMP:20260311T080147Z
URL:https://www.planlos-leipzig.org/events/kuefa-und-kieztresen-kiezvernet
 zung-west/
SUMMARY:Küfa und Kieztresen - Kiezvernetzung West
DESCRIPTION:Es wird köstliches Essen geben für den Bauch\, leckere Geträ
 nke für die Kehle und für’s Köpfchen und zum Quatschen ein paar spann
 ende Reportagen zu den Themen Wohnungsbau\, Spekulation und Gröner Skanda
 le in Leipzig. Kommt auch gerne mit uns – der Kiezvernetzung West – in
 s Gespräch!\n\nhttps://kieverwest.noblogs.org/\nkiever-west@riseup.net\n\
 n\n\nDie Veranstaltung findet im Rahmen der Housing Action Days 2026 statt
  – das vollständige Programm findet ihr unter: https://leipzigfueralle.
 de\n\n\n\n&nbsp\;\n\nhttps://leipzigfueralle.de/\n\nhttps://www.planlos-le
 ipzig.org/events/kuefa-und-kieztresen-kiezvernetzung-west/
ATTACH;FMTTYPE=image/jpeg:https://www.planlos-leipzig.org/wp-content/uploa
 ds/2026/03/planlos-kiezvernetzung-west-1.png
CATEGORIES:Küfa
LOCATION:Metarosa\, Markranstädter Str. 33\, Leipzig
X-APPLE-STRUCTURED-LOCATION;VALUE=URI;X-ADDRESS=Markranstädter Str. 33\, L
 eipzig\, Deutschland;X-APPLE-RADIUS=100;X-TITLE=Metarosa:geo:0,0
END:VEVENT
BEGIN:VTIMEZONE
TZID:Europe/Berlin
X-LIC-LOCATION:Europe/Berlin
BEGIN:STANDARD
DTSTART:20251026T020000
TZOFFSETFROM:+0200
TZOFFSETTO:+0100
TZNAME:CET
END:STANDARD
END:VTIMEZONE
END:VCALENDAR