BEGIN:VCALENDAR
VERSION:2.0
PRODID:-//wp-events-plugin.com//7.2.3.1//EN
TZID:Europe/Berlin
X-WR-TIMEZONE:Europe/Berlin
BEGIN:VEVENT
UID:8544@planlos-leipzig.org
DTSTART;TZID=Europe/Berlin:20260325T180000
DTEND;TZID=Europe/Berlin:20260325T200000
DTSTAMP:20260121T135043Z
URL:https://www.planlos-leipzig.org/events/lesekreis-kunsthandwerk-und-des
 ign-aus-ns-zwangsarbeit-3/
SUMMARY:Lesekreis: Kunsthandwerk und Design aus NS-Zwangsarbeit
DESCRIPTION:Lesekreis zur Sonderausstellung FORMEN DER ANPASSUNG. KUNSTHAN
 DWERK UND DESIGN IM NATIONALSOZIALISMUS im GRASSI Museum für Angewandte 
 Kunst\n\nDer Lesekreis widmet sich persönlichen Zeugnissen von Menschen\,
  die unter dem NS-Regime in den Bereichen Kunsthandwerk und Design zur Arb
 eit gezwungen wurden. Die Teilnehmenden lesen Auszüge aus Erinnerungsberi
 chten und tauschen sich darüber aus\, wie diese Erfahrungen bis heute nac
 hwirken.\n\nMit Anne Friebel und Isabel Panek\, Gedenkstätte für Zwangsa
 rbeit Leipzig\n\nWeitere Termine: 28.01. und 25.02.2026\, jeweils Mittwoch
  18:00 Uhr\n\nAnmeldung bis einschließlich 16. Januar per E-Mail an Nicol
 as Karpf (nicolas.karpf@leipzig.de)\, Teilnehmerzahl begrenzt.\n\nFür den
  Lesekreis ist einmalig eine Eintrittskarte zur Ausstellung FORMEN DER ANP
 ASSUNG zu erwerben.\n\nhttps://www.zwangsarbeit-in-leipzig.de/de/zwangsarb
 eit-in-leipzig/veranstaltungen/veranstaltungen-archiv/2026/14\n\nhttps://w
 ww.planlos-leipzig.org/events/lesekreis-kunsthandwerk-und-design-aus-ns-zw
 angsarbeit-3/
CATEGORIES:Lesekreis
LOCATION:Grassi Museum für Angewandte Kunst\, Johannisplatz 5–11\, 04103
  Leipzig
X-APPLE-STRUCTURED-LOCATION;VALUE=URI;X-ADDRESS=Johannisplatz 5–11\, 0410
 3 Leipzig\, Deutschland;X-APPLE-RADIUS=100;X-TITLE=Grassi Museum für Ange
 wandte Kunst:geo:0,0
END:VEVENT
BEGIN:VTIMEZONE
TZID:Europe/Berlin
X-LIC-LOCATION:Europe/Berlin
BEGIN:STANDARD
DTSTART:20251026T020000
TZOFFSETFROM:+0200
TZOFFSETTO:+0100
TZNAME:CET
END:STANDARD
END:VTIMEZONE
END:VCALENDAR