BEGIN:VCALENDAR
VERSION:2.0
PRODID:-//wp-events-plugin.com//7.2.3.1//EN
TZID:Europe/Berlin
X-WR-TIMEZONE:Europe/Berlin
BEGIN:VEVENT
UID:7477@planlos-leipzig.org
DTSTART;TZID=Europe/Berlin:20250919T190000
DTEND;TZID=Europe/Berlin:20250919T210000
DTSTAMP:20250805T105237Z
URL:https://www.planlos-leipzig.org/events/not-your-opfer-awareness-verans
 taltung-zum-thema-sexualisierte-gewalt/
SUMMARY:Not your Opfer – Awareness Veranstaltung zum Thema sexualisierte 
 Gewalt
DESCRIPTION:Not your Opfer – Awareness Veranstaltung zum Thema sexualisie
 rte Gewalt\nEinladung Awareness Veranstaltung in Leipzig\nOrt: Café Ocka\
 , Merseburgerstr.88\, 04177 Leipzig\nAm Freitag 19.September 2025 um 19 Uh
 r\nKostenlos\nOhne Anmeldung\, einfach kommen.\nDer Ort ist nicht barriere
 frei. Am Eingang gibt es eine Rampe für zwei Eingangsstufen. Es gibt kein
  rolligerechtes WC.\nNot your Opfer ist ein Podcast über sexualisierte Ge
 walt\, der bereits viele Betroffene empowert hat. Wir finden ihn so wichti
 g und sinnvoll\, deswegen haben wir die Macher*innen für eine Veranstaltu
 ng eingeladen. Was uns an dem Podcast gefällt ist\, dass er für Betroffe
 ne sehr stärkend und informativ ist. Er behandelt verschiedene Themen und
  kann sehr gut gehört werden. Auch für Verbündete\, Interessierte und U
 nterstützer*innen ist er sehr informativ.\nHört doch mal rein:\nhttps://
 www.notyouropfer.de/\nBei der Veranstaltung werden wir einzelne Abschnitte
  vorspielen und mit den Macher*innen darüber sprechen. Ihr habt die Mögl
 ichkeit Fragen zu stellen und mit ihnen ins Gespräch zu gehen. Die Verans
 taltungssituation werden wir zwischendurch auflockern\, durch einen Zweier
 austausch\, so dass sich mehr Personen ermutigt fühlen zu sprechen\, wenn
  sie das wollen.\nDie Veranstaltung wird von Personen und Gruppen organisi
 ert\, die Awareness machen. Für die Awareness Arbeit halten wir es für s
 innvoll\, sich mit den Folgen von sexualisierter Gewalt zu beschäftigen u
 nd Betroffenenperspektiven kennen zu lernen. Die Veranstaltung bietet die 
 Möglichkeit dafür. Dies ist u.a. für Personen hilfreich\, die Awareness
  Schichten machen und Betroffene von sexualisierter Gewalt unterstützen.\
 nVeranstaltung von ABL-Awareness &amp\; Awareness Institut\nFür Nachfrage
 n: ABL-Awareness@mail36.net\nDie Veranstaltung ist auf deutsch. Auf Wunsch
  können spontan Flüsterübersetzungen auf Englisch organisiert werden.\n
 Wir freuen uns auf euch! Bis dann!\nABL-Awareness &amp\; Awareness Institu
 t\n\n\n\nhttps://www.planlos-leipzig.org/events/not-your-opfer-awareness-v
 eranstaltung-zum-thema-sexualisierte-gewalt/
CATEGORIES:Vortrag
LOCATION:Café Ocka\, Merseburgerstr.88\, 04177 Leipzig\, Leipzig
X-APPLE-STRUCTURED-LOCATION;VALUE=URI;X-ADDRESS=Merseburgerstr.88\, 04177 L
 eipzig\, Leipzig\, Deutschland;X-APPLE-RADIUS=100;X-TITLE=Café Ocka:geo:0
 ,0
END:VEVENT
BEGIN:VTIMEZONE
TZID:Europe/Berlin
X-LIC-LOCATION:Europe/Berlin
BEGIN:DAYLIGHT
DTSTART:20250330T030000
TZOFFSETFROM:+0100
TZOFFSETTO:+0200
TZNAME:CEST
END:DAYLIGHT
END:VTIMEZONE
END:VCALENDAR