BEGIN:VCALENDAR
VERSION:2.0
PRODID:-//wp-events-plugin.com//7.2.3.1//EN
TZID:Europe/Berlin
X-WR-TIMEZONE:Europe/Berlin
BEGIN:VEVENT
UID:8924@planlos-leipzig.org
DTSTART;TZID=Europe/Berlin:20260515T193000
DTEND;TZID=Europe/Berlin:20260515T205600
DTSTAMP:20260420T150832Z
URL:https://www.planlos-leipzig.org/events/ost-und-west-gefaess-des-liedes
 -tacheles/
SUMMARY:OST UND WEST (GEFÄSS DES LIEDES / TACHELES)
DESCRIPTION:AUT 1923\, Spielfilm\, 86 min\nRegie: Sydney M. Goldin &amp\; I
 van Abramson · ohne Dialog (Stummfilm mit deutschen Zwischentiteln und Li
 ve-Musik von Alicia Svigals &amp\; Donald Sosin)\nMit: Molly Picon\, Jacob
  Kalich\, Eugen Neufeld\, Simon Nathan\, Laura Glücksmann\n\nZwischen 19
 19 und 1925 entstanden in Österreich einige auf ein jüdisches Publikum z
 ugeschnittene Filme\, darunter auch diese bemerkenswerte Komödie\, in der
  das östlich-orthodoxe und das westlich-assimilierte Judentum aufeinander
 treffen. Molly und ihr Vater\, ein in die USA ausgewanderter Millionär\, 
 sind zur Hochzeit einer nahen Verwandten nach Polen gereist. Die junge\, q
 uirlige Frau\, die in ihrer Freizeit schon einmal die Boxhandschuhe überz
 ieht\, hat so gut wie nichts mit Tradition und dem einfachen Leben im Scht
 etl zu tun – Missverständnisse sind vorprogrammiert. OST UND WEST wurde
  im Atelier der Listo Film unter Mitwirkung zahlreicher Darsteller der Fre
 ien Jüdischen Volksbühne in Wien gedreht. Unterlegt mit Originalmusik de
 r weltberühmten Geigerin Alicia Svigals und des gefeierten Pianisten Dona
 ld Sosin in Live-Aufführung. Alicia Svigals \, Geigerin\, Komponistin und
  Mitbegründerin der Grammy-gekrönten Klezmatics\, ist die weltweit führ
 ende Klezmer-Geigerin. Sie hat die Tradition des Klezmer-Geigenspiels\, di
 e bis zur Aufnahme ihres Debütalbums „Fidi“ in den 1990er Jahren vom 
 Aussterben bedroht war\, fast im Alleingang wiederbelebt. Svigals hat mit 
 dem Geiger Itzhak Perlman gespielt und für ihn komponiert und arbeitete m
 it dem Kronos Quartet\, den Dramatikern Tony Kushner und Eve Ensler\, dem 
 Dichter Allen Ginsberg\, Robert Plant und Jimmy Page von Led Zeppelin\, De
 bbie Friedman und Chava Albershteyn zusammen. Für ihre Originalmusik zum 
 Film THE YELLOW TICKET aus dem Jahr 1918 erhielt sie einen Auftrag der Fou
 ndation for Jewish Culture und ist MacDowell-Stipendiatin. Im Februar 2018
  veröffentlichten Svigals und der Jazzpianist Uli Geissendoerfer die BERE
 GOVSKI SUITE\, ihre Fantasie über Klezmer-Melodien\, die aus dem Archiv d
 es sowjetisch-jüdischen Ethnomusikologen Moshe Beregovski aus dem frühen
  20. Jahrhundert stammen. Im Mai 2023 wurde Svigals vom Jewish Theological
  Seminary für „außergewöhnliche Beiträge zur Kunst und zum jüdische
 n Leben“ die Ehrendoktorwürde in Geisteswissenschaften verliehen. Im Ju
 ni 2024 veröffentlichte sie ihr neuestes Album\, FIDL AFIRE\, auf dem Lab
 el Borscht Beat – eine Rückkehr zu ihren Wurzeln mit einer vollbesetzte
 n Partyband. Im August 2024 wurde ihr das NYSCA/NYFA-Künstlerstipendium 2
 024 für Volks- und traditionelle Künste verliehen. Donald Sosin ist Komp
 onist\, Arrangeur\, Pianist und Dirigent. Er wuchs in Rye\, New York\, und
  München auf. Fünfzehn Jahre lang arbeitete er am Broadway und seit 1971
  komponiert und begleitet er Stummfilme musikalisch. Er ist in den gesamte
 n Vereinigten Staaten aufgetreten\, unter anderem in Spielstätten wie dem
  Lincoln Center\, dem MoMA und dem Kennedy Center sowie bei bedeutenden Fi
 lmfestivals in Telluride\, San Francisco sowie in Europa und Asien\, mit r
 egelmäßigen Auftritten in Bologna und Pordenone. Sosin nimmt für die La
 bels Criterion\, Kino\, Milestone und Flicker Alley sowie für die Deutsch
 e Kinemathek\, Lobster Films und Arte auf und erhielt Aufträge vom Chicag
 o Symphony Chorus\, vom San Francisco Chamber Orchestra und vom Jerusalem 
 Symphony Orchestra. Ein bedeutender Teil seines Schaffens widmet sich jüd
 ischen Themen. Er hat Filmmusiken zu Werken wie JEWISH LUCK\, BREAKING HOM
 E TIES und THREE WOMEN beim New York Jewish Film Festival aufgeführt. Gem
 einsam mit Alicia Svigals schrieb er Filmmusiken zu OST UND WEST (1923)\, 
 DAS ALTE GESETZ (1923)\, DIE STADT OHNE JUDEN (1924) und THE MAN WITHOUT A
  WORLD (1990)\, die international aufgeführt wurden. Zu seinen jüdisch g
 eprägten Kompositionen zählen außerdem jiddische Liedbearbeitungen\, di
 e Schabbat-Kantate SHIR HADASH (1974)\, die Opern ESTHER und A PARAKEET NA
 MED DREIDEL sowie THREE PSALMS FOR ORCHESTRA (2009). Bilder: OST UND WEST 
 © Filmarchiv Austria / Alicia Svigals\, Donald Sosin © Oles Cheresko\n\n
 Between 1919 and 1925\, a number of films targeting a Jewish audience were
  produced in Austria\, including this remarkable comedy\, in which Eastern
  Orthodox and Western-assimilated Judaism clash. Molly and her father\, a 
 millionaire who has emigrated to the United States\, have traveled to Pola
 nd for the wedding of a close relative. The young\, vivacious woman\, who 
 occasionally puts on boxing gloves in her spare time\, has virtually nothi
 ng to do with tradition or the humble life in the shtetl – misunderstand
 ings are inevitable. EAST AND WEST was filmed at the Listo Film studio wit
 h the participation of numerous actors from the Free Jewish People’s The
 ater in Vienna. ( Alicia Svigals Donald Sosin\n\nhttps://cinematheque-leip
 zig.de/programm/filme/ost-und-west/\n\nhttps://www.planlos-leipzig.org/eve
 nts/ost-und-west-gefaess-des-liedes-tacheles/
CATEGORIES:Film
LOCATION:Cinémathèque\, Karl-Liebknecht-Str. 109\, Leipzig
X-APPLE-STRUCTURED-LOCATION;VALUE=URI;X-ADDRESS=Karl-Liebknecht-Str. 109\, 
 Leipzig\, Deutschland;X-APPLE-RADIUS=100;X-TITLE=Cinémathèque:geo:0,0
END:VEVENT
BEGIN:VTIMEZONE
TZID:Europe/Berlin
X-LIC-LOCATION:Europe/Berlin
BEGIN:DAYLIGHT
DTSTART:20260329T030000
TZOFFSETFROM:+0100
TZOFFSETTO:+0200
TZNAME:CEST
END:DAYLIGHT
END:VTIMEZONE
END:VCALENDAR