BEGIN:VCALENDAR
VERSION:2.0
PRODID:-//wp-events-plugin.com//7.2.3.1//EN
TZID:Europe/Berlin
X-WR-TIMEZONE:Europe/Berlin
BEGIN:VEVENT
UID:7422@planlos-leipzig.org
DTSTART;TZID=Europe/Berlin:20250809T090000
DTEND;TZID=Europe/Berlin:20250809T120000
DTSTAMP:20250718T125753Z
URL:https://www.planlos-leipzig.org/events/protest-gegen-das-compact-somme
 rfest-in-noebeditz/
SUMMARY:Protest gegen das Compact-Sommerfest in Nöbeditz
DESCRIPTION:Bratwurst\, Bier und Menschenfeinde. Nach der Aufhebung des Com
 pact-Verbots lädt das rechtsextreme Magazin wieder zum Sommerfest auf And
 ré Poggenburgs Rittergut Nöbeditz in Stößen bei Naumburg. Als Stars de
 s Tages wirbt Compact-Chef Jürgen Elsässer mit Martin Sellner und Ken Je
 bsen.\n\nWir möchten die Teilnehmenden direkt vor dem Eingang des Ritterg
 utes gebührend empfangen und deutlich machen\, dass gruppenbezogene Mensc
 henfeindlichkeit\, völkische Ideologie und Deportationsfantasien nicht wi
 llkommen sind.\nAnfahrt\nAnfahrt nach Stößen mit öffentlichen Verkehrsm
 itteln\n\n 	Bus 820 ab Zeitz in Richtung Naumburg\n 	Bus 820 ab Naumburg i
 n Richtung Zeitz\n 	Bus 797 ab Weißenfels in Richtung Kaufland (Rufbus)\n
 \nParkmöglichkeiten in Stößen\n\n 	am Schützenhaus in der Naumburger S
 traße 35 (offizieller Parkplatz für die Protestkundgebung\, 20 min Fußw
 eg)\n 	Parkplatz Bergstraße (an der Kirche\, evtl. gesperrt)\n\nVor Falsc
 hparken wird ausdrücklich gewarnt!\n\nhttps://fb.me/e/2xEPbSsZu\n\nhttps:
 //www.planlos-leipzig.org/events/protest-gegen-das-compact-sommerfest-in-n
 oebeditz/
ATTACH;FMTTYPE=image/jpeg:https://www.planlos-leipzig.org/wp-content/uploa
 ds/2025/07/2024-08-09-Noebeditz-Sharepic-a.jpeg
CATEGORIES:Demo
LOCATION:Nöbeditz\, Nöbeditz 1\, 06667 Stößen
X-APPLE-STRUCTURED-LOCATION;VALUE=URI;X-ADDRESS=Nöbeditz 1\, 06667 Stöße
 n\, Deutschland;X-APPLE-RADIUS=100;X-TITLE=Nöbeditz:geo:0,0
END:VEVENT
BEGIN:VTIMEZONE
TZID:Europe/Berlin
X-LIC-LOCATION:Europe/Berlin
BEGIN:DAYLIGHT
DTSTART:20250330T030000
TZOFFSETFROM:+0100
TZOFFSETTO:+0200
TZNAME:CEST
END:DAYLIGHT
END:VTIMEZONE
END:VCALENDAR