BEGIN:VCALENDAR
VERSION:2.0
PRODID:-//wp-events-plugin.com//7.2.3.1//EN
TZID:Europe/Berlin
X-WR-TIMEZONE:Europe/Berlin
BEGIN:VEVENT
UID:8732@planlos-leipzig.org
DTSTART;TZID=Europe/Berlin:20260430T193000
DTEND;TZID=Europe/Berlin:20260430T210000
DTSTAMP:20260307T005832Z
URL:https://www.planlos-leipzig.org/events/queeres-speeddating-im-juicy-ue
 30-edition/
SUMMARY:Queeres Speeddating im Juicy! *Ü30 Edition*
DESCRIPTION:Es ist Früüühling und du hast keinen Bock auf das ewige\, la
 ngweile Swipen am Handy? Lust in sweeter Atmosphäre neue Menschen kennenz
 ulernen? Dann herzlich willkommen beim Juicy Speeddating!\nEgal ob „für
  immer“ oder „nur für den Abend“\, hier kannst du in kurzer Zeit to
 lle Menschen kennenlernen\, neue Freund*innenschaften knüpfen oder vielle
 icht sogar eine große Liebe finden.\nMach dich bereit für deepe Gespräc
 he\, herzhaftes Lachen und vielleicht den ein oder anderen Crush. Also sch
 meiß dich in dein Wohlfühl-Outfit\, bring ein bisschen Mut und Flirtlaun
 e mit und lass uns gemeinsam eine gute Zeit haben!\n\nDieses Mal ist das S
 peeddating ist offen für queere Menschen ab 30 bis ∞ Jahren. Ganz beson
 ders eingeladen fühlen dürfen sich „Late Bloomer“ (Menschen die erst
  verhältnismäßig spät ihr Queer-Sein entdeckt haben) &lt\;3\nDatum: 30
 . April 2026\nUhrzeit: 19:30 – 21:00 Uhr\nOrt: Sexshop Juicy\, Arno-Nitz
 sche-Str. 20\, 04277 Leipzig\nZugänglichkeit: Hier gibt es eine (unvoll
 ständige) Liste der Barrieren\, die Juicy hat.\nZielgruppe: Queers\nSprac
 he: Deutsch und/oder Englisch\, je nachdem was für die Teilnehmenden einf
 acher ist.\nKosten: 1 – 10 Euro Selbsteinschätzung*\n*Unsere Teilnahmeg
 ebühr funktioniert als Soli-Prinzip nach Selbsteinschätzung. Sollten die
  Kosten eine zu große Hürde für dich sein\, schreib uns eine Mail.\nHie
 r geht’s zur Anmeldung:\nDu kannst dich hier anmelden: KLICK\noder komms
 t im Laden vorbei und kaufst dort dein Teilnahmeticket 🙂\nDu bekommst e
 ine Bestätigungs-Mail und vor der Veranstaltung nochmal eine Erinnerung.\
 nWir freuen uns auf dich!\n\nhttps://juicyshop.de/event/queeres-speeddatin
 g-im-juicy-ue30-edition/\n\nhttps://www.planlos-leipzig.org/events/queeres
 -speeddating-im-juicy-ue30-edition/
CATEGORIES:Vernetzungstreffen
LOCATION:Juicy - queerer Sexshop für alle\, Arno-Nitzsche-Str. 20\, 04277 
 \, Leipzig
X-APPLE-STRUCTURED-LOCATION;VALUE=URI;X-ADDRESS=Arno-Nitzsche-Str. 20\, 042
 77 \, Leipzig\, Deutschland;X-APPLE-RADIUS=100;X-TITLE=Juicy - queerer Sex
 shop für alle:geo:0,0
END:VEVENT
BEGIN:VTIMEZONE
TZID:Europe/Berlin
X-LIC-LOCATION:Europe/Berlin
BEGIN:DAYLIGHT
DTSTART:20260329T030000
TZOFFSETFROM:+0100
TZOFFSETTO:+0200
TZNAME:CEST
END:DAYLIGHT
END:VTIMEZONE
END:VCALENDAR