BEGIN:VCALENDAR
VERSION:2.0
PRODID:-//wp-events-plugin.com//7.2.3.1//EN
TZID:Europe/Berlin
X-WR-TIMEZONE:Europe/Berlin
BEGIN:VEVENT
UID:8763@planlos-leipzig.org
DTSTART;TZID=Europe/Berlin:20260328T130000
DTEND;TZID=Europe/Berlin:20260328T150000
DTSTAMP:20260307T005729Z
URL:https://www.planlos-leipzig.org/events/rundgang-sozialer-wohnungsbau-g
 estern-und-heute/
SUMMARY:Rundgang &quot;Sozialer Wohnungsbau gestern und heute&quot;
DESCRIPTION:Die Linke [AG Stadtentwicklung &amp\; BO Grüner Bogen]\n\nAusg
 ehend vom Treffpunkt in der Ahornstraße erkunden wir im ersten Teil des R
 undgangs die in den 1980er Jahren errichtete Großwohnsiedlung. Mitglieder
  der BO Grüner Bogen (Die Linke) gehen dabei auf die Geschichte des Sozia
 len Wohnungsbaus in Paunsdorf ein. Der zweite Teil des Rundgangs führt un
 s nach Heiterblick\, wo in den kommenden Jahren Wohnungen für 4000 Mensch
 en entstehen sollen. Die AG Stadtentwicklung (Die Linke) wird hier auf die
  aktuellen Herausforderungen des Sozialen Wohnungsbaus in der Gegenwart ei
 ngehen.\n\nhttps://www.die-linke-in-leipzig.de\n\n\n\nDie Veranstaltung fi
 ndet im Rahmen der Housing Action Days 2026 statt – das vollständige Pr
 ogramm findet ihr unter: https://leipzigfueralle.de\n\n\n\n&nbsp\;\n\nhttp
 s://leipzigfueralle.de/\n\nhttps://www.planlos-leipzig.org/events/rundgang
 -sozialer-wohnungsbau-gestern-und-heute/
ATTACH;FMTTYPE=image/jpeg:https://www.planlos-leipzig.org/wp-content/uploa
 ds/2026/03/planlos-die-linke-1.png
CATEGORIES:Rundgang
LOCATION:Haltestelle Ahornstraße (stadtauswärts)\, Heiterblickallee\, Pau
 nsdorf
X-APPLE-STRUCTURED-LOCATION;VALUE=URI;X-ADDRESS=Heiterblickallee\, Paunsdor
 f\, Deutschland;X-APPLE-RADIUS=100;X-TITLE=Haltestelle Ahornstraße (stadt
 auswärts):geo:0,0
END:VEVENT
BEGIN:VTIMEZONE
TZID:Europe/Berlin
X-LIC-LOCATION:Europe/Berlin
BEGIN:STANDARD
DTSTART:20251026T020000
TZOFFSETFROM:+0200
TZOFFSETTO:+0100
TZNAME:CET
END:STANDARD
END:VTIMEZONE
END:VCALENDAR