BEGIN:VCALENDAR
VERSION:2.0
PRODID:-//wp-events-plugin.com//7.2.3.1//EN
TZID:Europe/Berlin
X-WR-TIMEZONE:Europe/Berlin
BEGIN:VEVENT
UID:8752@planlos-leipzig.org
DTSTART;TZID=Europe/Berlin:20260328T140000
DTEND;TZID=Europe/Berlin:20260328T160000
DTSTAMP:20260307T005737Z
URL:https://www.planlos-leipzig.org/events/rundgang-zu-gentrifizierung-in-
 gohlis/
SUMMARY:Rundgang zu Gentrifizierung in Gohlis
DESCRIPTION:Rundgang zu Gentrifizierung in Gohlis\n\nMit Vertreter:innen vo
 n SoliNord &amp\; NordWest Stern e.V.\, anschließend Plausch und kostenf
 reier Imbiss.\n\nhttps://www.instagram.com/soli.nord.le/\n\n\n\nDie Verans
 taltung findet im Rahmen der Housing Action Days 2026 statt – das vollst
 ändige Programm findet ihr unter: https://leipzigfueralle.de\n\n\n\n&nbsp
 \;\n\nhttps://leipzigfueralle.de/\n\nhttps://www.planlos-leipzig.org/event
 s/rundgang-zu-gentrifizierung-in-gohlis/
ATTACH;FMTTYPE=image/jpeg:https://www.planlos-leipzig.org/wp-content/uploa
 ds/2026/03/planlos-nordstern.png
CATEGORIES:Rundgang
LOCATION:NordWest Stern\, Georg-Schumann-Str. 126\, Leipzig Gohlis
X-APPLE-STRUCTURED-LOCATION;VALUE=URI;X-ADDRESS=Georg-Schumann-Str. 126\, L
 eipzig Gohlis\, Deutschland;X-APPLE-RADIUS=100;X-TITLE=NordWest Stern:geo:
 0,0
END:VEVENT
BEGIN:VTIMEZONE
TZID:Europe/Berlin
X-LIC-LOCATION:Europe/Berlin
BEGIN:STANDARD
DTSTART:20251026T020000
TZOFFSETFROM:+0200
TZOFFSETTO:+0100
TZNAME:CET
END:STANDARD
END:VTIMEZONE
END:VCALENDAR