BEGIN:VCALENDAR
VERSION:2.0
PRODID:-//wp-events-plugin.com//7.2.3.1//EN
TZID:Europe/Berlin
X-WR-TIMEZONE:Europe/Berlin
BEGIN:VEVENT
UID:8750@planlos-leipzig.org
DTSTART;TZID=Europe/Berlin:20260327T190000
DTEND;TZID=Europe/Berlin:20260327T190000
DTSTAMP:20260307T005708Z
URL:https://www.planlos-leipzig.org/events/sektempfang-schlimmster-vermiet
 er-leipzigs/
SUMMARY:Sektempfang: &quot;Schlimmster Vermieter Leipzigs&quot;
DESCRIPTION:Am Freitagabend lädt die Recht auf Stadt-AG der IL Leipzig zu 
 einer außergewöhnlichen\, mietenpolitischen Performance ein. Sie blickt 
 auf die anhaltenden schaurigen Zustände auf dem Leipziger Wohnungsmarkt\,
  wagt aber auch einen Blick in die Zukunft. Kann es noch schlimmer werden?
  Was muss sich ändern?\nFür eine Überraschung wird gesorgt sein.\nIm An
 schluss (Sekt-)Bar!\n\nmiethai-kartei@systemli.org\n\n\n\nDie Veranstaltun
 g findet im Rahmen der Housing Action Days 2026 statt – das vollständig
 e Programm findet ihr unter: https://leipzigfueralle.de\n\n\n\n&nbsp\;\n\n
 https://leipzigfueralle.de/\n\nhttps://www.planlos-leipzig.org/events/sekt
 empfang-schlimmster-vermieter-leipzigs/
ATTACH;FMTTYPE=image/jpeg:https://www.planlos-leipzig.org/wp-content/uploa
 ds/2026/03/planlos-il-leipzig.png
CATEGORIES:Performance
LOCATION:Raum der Zeit e.V.\, Hedwigstr. 11\, Leipzig Neustadt-Neuschönefe
 ld
X-APPLE-STRUCTURED-LOCATION;VALUE=URI;X-ADDRESS=Hedwigstr. 11\, Leipzig Neu
 stadt-Neuschönefeld\, Deutschland;X-APPLE-RADIUS=100;X-TITLE=Raum der Zei
 t e.V.:geo:0,0
END:VEVENT
BEGIN:VTIMEZONE
TZID:Europe/Berlin
X-LIC-LOCATION:Europe/Berlin
BEGIN:STANDARD
DTSTART:20251026T020000
TZOFFSETFROM:+0200
TZOFFSETTO:+0100
TZNAME:CET
END:STANDARD
END:VTIMEZONE
END:VCALENDAR