BEGIN:VCALENDAR
VERSION:2.0
PRODID:-//wp-events-plugin.com//7.2.3.1//EN
TZID:Europe/Berlin
X-WR-TIMEZONE:Europe/Berlin
BEGIN:VEVENT
UID:8731@planlos-leipzig.org
DTSTART;TZID=Europe/Berlin:20260421T170000
DTEND;TZID=Europe/Berlin:20260421T190000
DTSTAMP:20260307T005807Z
URL:https://www.planlos-leipzig.org/events/tauschparty-fuer-genderaffirmin
 g-wear-3/
SUMMARY:Tauschparty für genderaffirming wear &lt\;3
DESCRIPTION:Diese Woche findet die jährliche Fashion Revolution Week* stat
 t.\nDazu laden wir euch wieder zur Tausch-Party im Juicy ein!\n\nHier kön
 nt ihr euren aussortierten gender affirming Produkten wie Bindern und Gaff
 s eine zweite Chance geben\, oder unter den Tausch-Teilen anderer euer neu
 es Lieblingsstück finden!\nDie Tauschparty ist offen für alle\, die Prod
 ukte tauschen möchten\, abzugeben haben oder suchen.\nAuch wenn es im Ver
 anstaltungsnamen steckt\, funktioniert das ganze ohne Tauschlogik. Nehmt e
 infach mit was euch passt\, ganz umsonst und/-oder gebt ab was ihr nicht m
 ehr braucht 🙂\nIhr könnt auch schon vorher Sachen im Laden abgeben. Wa
 s übrig bleibt\, spenden wir an queere Projekte. Das Event findet außerh
 alb der Öffnungszeiten statt\, damit ihr in Ruhe tauschen\, anprobieren o
 der euch miteinander austauschen könnt.\n\n*Um den 24. April\, den Jahres
 tag der Katastrophe von Rana Plaza\, findet jährlich weltweit die Fashion
  Revolution Week statt. Rana Plaza\, ein Gebäude in Bangladesch\, beherbe
 rgte eine Reihe von Bekleidungsfabriken\, die für viele der weltweit grö
 ßten Modemarken produzierten. 2013 stürzte es wegen vernachlässigter Si
 cherheitsvorkehrungen ein. Seitdem setzen sich Bewegungen für Gesetze\, d
 ie Arbeiterinnen besser schützen sollen ein. Die Fashion Revolution Week 
 ist eine davon. Mit Undrowear versuchen wir\, möglichst lokal und fair Wa
 ren zu beziehen und neu zu produzieren. Tauschveranstaltungen sind eine gu
 te Möglichkeit\, bereits existierende Sachen weiter zu verwenden. Zudem h
 elfen sie\, entgegen oft klassistischer Anteile der „Nachhaltigkeitsbewe
 gung“\, günstig an Produkte zu gelangen.\n\nDatum: 21. April 2026\nUhrz
 eit: 17:00 – 19:00 Uhr\nOrt: Sexshop Juicy\, Arno-Nitzsche-Str. 20\, 042
 77 Leipzig\nZugänglichkeit: Hier gibt es eine (unvollständige) Liste d
 er Barrieren\, die Juicy hat.\nZielgruppe: Queere Menschen &amp\; Allies\n
 Kosten: kostenlos\n\nEine Anmeldung ist nicht nötig\, komm einfach vorbei
 !\n\nhttps://juicyshop.de/event/tauschparty-fuer-genderaffirming-wear-3/\n
 \nhttps://www.planlos-leipzig.org/events/tauschparty-fuer-genderaffirming-
 wear-3/
CATEGORIES:Flohmarkt
LOCATION:Juicy - queerer Sexshop für alle\, Arno-Nitzsche-Str. 20\, 04277 
 \, Leipzig
X-APPLE-STRUCTURED-LOCATION;VALUE=URI;X-ADDRESS=Arno-Nitzsche-Str. 20\, 042
 77 \, Leipzig\, Deutschland;X-APPLE-RADIUS=100;X-TITLE=Juicy - queerer Sex
 shop für alle:geo:0,0
END:VEVENT
BEGIN:VTIMEZONE
TZID:Europe/Berlin
X-LIC-LOCATION:Europe/Berlin
BEGIN:DAYLIGHT
DTSTART:20260329T030000
TZOFFSETFROM:+0100
TZOFFSETTO:+0200
TZNAME:CEST
END:DAYLIGHT
END:VTIMEZONE
END:VCALENDAR