BEGIN:VCALENDAR
VERSION:2.0
PRODID:-//wp-events-plugin.com//7.2.3.1//EN
TZID:Europe/Berlin
X-WR-TIMEZONE:Europe/Berlin
BEGIN:VEVENT
UID:8925@planlos-leipzig.org
DTSTART;TZID=Europe/Berlin:20260520T193000
DTEND;TZID=Europe/Berlin:20260520T205500
DTSTAMP:20260420T150909Z
URL:https://www.planlos-leipzig.org/events/the-last-klezmer-leopold-kozlow
 ski-his-life-and-music-gefaess-des-liedes-tacheles/
SUMMARY:THE LAST KLEZMER – LEOPOLD KOZLOWSKI: HIS LIFE AND MUSIC (GEFÄSS
  DES LIEDES / TACHELES)
DESCRIPTION:USA 1993\, Dokumentarfilm\, 85 min\nRegie: Yale Strom · OmeU (
 Polnisch\, Jiddisch\, Englisch mit englischen Untertiteln)\n\nAus der Pers
 pektive des Klezmer-Musikers\, Fotografen und Filmemachers Yale Strom port
 rätiert „THE LAST KLEZMER“ das bewegte Leben und die Musik von Leopol
 d Kozlowski\, dem letzten Klezmer-Musiker\, der in Polen mit dieser musika
 lischen Tradition aufgewachsen ist. Noch vor wenigen Generationen zählte 
 diese Region unter ihren dreieinhalb Millionen Juden Tausende von „Klezm
 orim“. In den 90er-Jahren gab es dann nur noch einen. Leopold lässt sei
 n Leben anhand von Erinnerungen\, Musik und einer Reise zurück in seine H
 eimatstadt Przemyslany (in der Nähe von Lwiw\, Ukraine) Revue passieren. 
 Wir erleben den Musiker als Dirigenten und Lehrer\, der sein Wissen über 
 jüdische Musik an eine neue Generation katholischer Polen weitergibt. Sti
 lls © Yale Strom\n\nThrough the eyes of klezmer musician\, photographer\,
  and filmmaker Yale Strom\, “THE LAST KLEZMER” portrays the turbulent 
 life and music of Leopold Kozlowski\, the last klezmer musician to have gr
 own up in Poland within this musical tradition. Just a few generations ago
 \, this region was home to thousands of “klezmorim” among its three an
 d a half million Jews. By the 1990s\, there was only one left. Leopold ref
 lects on his life through memories\, music\, and a journey back to his hom
 etown of Preremyschlany (near Lviv\, Ukraine). We see the musician as a co
 nductor and teacher\, passing on his knowledge of Jewish music to a new ge
 neration of Catholic Poles. (English\, Polish\, Ukrainian with English sub
 titles)\n\nhttps://cinematheque-leipzig.de/programm/filme/the-last-klezmer
 -leopold-kozlowski-his-life-and-music/\n\nhttps://www.planlos-leipzig.org/
 events/the-last-klezmer-leopold-kozlowski-his-life-and-music-gefaess-des-l
 iedes-tacheles/
CATEGORIES:Film
LOCATION:Cinémathèque\, Karl-Liebknecht-Str. 109\, Leipzig
X-APPLE-STRUCTURED-LOCATION;VALUE=URI;X-ADDRESS=Karl-Liebknecht-Str. 109\, 
 Leipzig\, Deutschland;X-APPLE-RADIUS=100;X-TITLE=Cinémathèque:geo:0,0
END:VEVENT
BEGIN:VTIMEZONE
TZID:Europe/Berlin
X-LIC-LOCATION:Europe/Berlin
BEGIN:DAYLIGHT
DTSTART:20260329T030000
TZOFFSETFROM:+0100
TZOFFSETTO:+0200
TZNAME:CEST
END:DAYLIGHT
END:VTIMEZONE
END:VCALENDAR