BEGIN:VCALENDAR
VERSION:2.0
PRODID:-//wp-events-plugin.com//7.2.3.1//EN
TZID:Europe/Berlin
X-WR-TIMEZONE:Europe/Berlin
BEGIN:VEVENT
UID:8930@planlos-leipzig.org
DTSTART;TZID=Europe/Berlin:20260519T183000
DTEND;TZID=Europe/Berlin:20260519T210000
DTSTAMP:20260421T152936Z
URL:https://www.planlos-leipzig.org/events/ue30-antifa-vernetzungstreffen-
 7/
SUMMARY:Ü30 Antifa Vernetzungstreffen
DESCRIPTION:Du hast keine Lust auf noch mehr Selbstoptimierung und Lebensze
 itverschwendung?\nDann fühl‘ dich eingeladen.\nWir treffen uns in regel
 mäßigen Abständen um uns auszutauschen und Tipps zu holen.\nWir verbrin
 gen gemeinsam gestaltete Zeit miteinander.\nWir werden kreativ und aktiv. 
 Alles kann\, nichts muss.\n\nDie Veranstaltung findet in der 1. Etage übe
 r dem Café Conne Island (Vorderhaus) statt.\n\nBei Fragen schreibt uns ge
 rne an kollektiv_utopia@ik.me\n\nhttps://conne-island.de/termin/2026-05-19
 .html\n\nhttps://www.planlos-leipzig.org/events/ue30-antifa-vernetzungstre
 ffen-7/
ATTACH;FMTTYPE=image/jpeg:https://www.planlos-leipzig.org/wp-content/uploa
 ds/2026/04/signal-2026-04-04-19-43-12-336.png
CATEGORIES:Vernetzungstreffen
LOCATION:Café Conne Island (Vorderhaus EG)\, Koburger Str. 3\, Leipzig
X-APPLE-STRUCTURED-LOCATION;VALUE=URI;X-ADDRESS=Koburger Str. 3\, Leipzig\,
  Deutschland;X-APPLE-RADIUS=100;X-TITLE=Café Conne Island (Vorderhaus EG)
 :geo:0,0
END:VEVENT
BEGIN:VTIMEZONE
TZID:Europe/Berlin
X-LIC-LOCATION:Europe/Berlin
BEGIN:DAYLIGHT
DTSTART:20260329T030000
TZOFFSETFROM:+0100
TZOFFSETTO:+0200
TZNAME:CEST
END:DAYLIGHT
END:VTIMEZONE
END:VCALENDAR