BEGIN:VCALENDAR
VERSION:2.0
PRODID:-//wp-events-plugin.com//7.2.3.1//EN
TZID:Europe/Berlin
X-WR-TIMEZONE:Europe/Berlin
BEGIN:VEVENT
UID:8770@planlos-leipzig.org
DTSTART;TZID=Europe/Berlin:20260623T171500
DTEND;TZID=Europe/Berlin:20260623T184500
DTSTAMP:20260311T080813Z
URL:https://www.planlos-leipzig.org/events/un-visible-four-kippahs-and-the
 -making-of-jewish-life-in-europe/
SUMMARY:Un/Visible. Four Kippahs and the Making of Jewish Life in Europe
DESCRIPTION:Un/Visible. Four Kippahs and the Making of Jewish Life in Europ
 e\nEnglischsprachiger Vortrag mit Itamar Ben Ami (Utrecht)\nDer 7. Oktober
  2023 hat das Sicherheitsgefühl der europäischen Jüdinnen und Juden ers
 chüttert und die Frage nach der Sichtbarkeit des Judentums neu zugespitzt
 : Verbergen oder offen zeigen? Der Religionswissenschaftler Itamar Ben Ami
  (Utrecht) beleuchtet die jüdische Kippa als Schicksalsobjekt\, in dem si
 ch vier Formen des Jüdischseins im heutigen Europa spiegeln: ein religiö
 s diskretes\, »privatisiertes« Judentum\, das die Kippa unauffällig mit
  sich führt\; eines\, das das Kippa-Tragen als widerständige Geste und a
 ls Ausdruck liberalen Protests gegen Unsicherheit versteht\; ein selbstbew
 usstes\, öffentlich praktiziertes Judentum\, das die Gesellschaft aktiv m
 itgestaltet\; sowie ein ultraorthodoxes\, das durch distinktive Kleidung e
 ine Gegenöffentlichkeit formiert. Die vier konkurrierenden Modi des Umgan
 gs mit der Kippa bilden den Ausgangspunkt für ein Nachdenken über Sichtb
 arkeit\, Sicherheit\, Staatsbürgerschaft und den Platz jüdischen Lebens 
 im heutigen Europa.\n\nEine Veranstaltung im Rahmen der Jüdischen Woche L
 eipzig.\n\nhttps://www.dubnow.de/veranstaltung/un-visible-four-kippahs-and
 -the-making-of-jewish-life-in-europe\n\nhttps://www.planlos-leipzig.org/ev
 ents/un-visible-four-kippahs-and-the-making-of-jewish-life-in-europe/
CATEGORIES:Vortrag
LOCATION:Leibniz-Institut für jüdische Geschichte und Kultur – Simon Du
 bnow\, Goldschmidtstraße 28\, Leipzig
X-APPLE-STRUCTURED-LOCATION;VALUE=URI;X-ADDRESS=Goldschmidtstraße 28\, Lei
 pzig\, Deutschland;X-APPLE-RADIUS=100;X-TITLE=Leibniz-Institut für jüdis
 che Geschichte und Kultur – Simon Dubnow:geo:0,0
END:VEVENT
BEGIN:VTIMEZONE
TZID:Europe/Berlin
X-LIC-LOCATION:Europe/Berlin
BEGIN:DAYLIGHT
DTSTART:20260329T030000
TZOFFSETFROM:+0100
TZOFFSETTO:+0200
TZNAME:CEST
END:DAYLIGHT
END:VTIMEZONE
END:VCALENDAR