BEGIN:VCALENDAR
VERSION:2.0
PRODID:-//wp-events-plugin.com//7.2.3.1//EN
TZID:Europe/Berlin
X-WR-TIMEZONE:Europe/Berlin
BEGIN:VEVENT
UID:8729@planlos-leipzig.org
DTSTART;TZID=Europe/Berlin:20260318T200000
DTEND;TZID=Europe/Berlin:20260318T213000
DTSTAMP:20260305T081113Z
URL:https://www.planlos-leipzig.org/events/vortrag-guter-sex-ist-kein-opti
 mierungsprojekt-mit-dr-madita-hoy/
SUMMARY:Vortrag „Guter Sex ist kein Optimierungsprojekt“ mit Dr. Madita
  Hoy
DESCRIPTION:Es ist Buchmesse in Leipzig – und bei uns gibt es diesmal ein
 en spannenden Vortrag:\n\nWas passiert\, wenn wir weniger funktionieren un
 d mehr spielen?\n\nWir wollen Sex. Mit Lebendigkeit\, Achtsamkeit und Leic
 htigkeit.\nKreativ\, abwechslungsreich und natürlich konsensuell. Und dan
 n\nkommen unsere Körper und unsere Psyche dazwischen. Verkrampftheit\,\nd
 ie verhindert\, dass Berührungen sich gut anfühlen. Lust\, die\nausbleib
 t. Penisse\, die weich bleiben. Orgasmen\, die zu früh kommen\n– oder g
 ar nicht.\n\nWir sind hochreflektiert\, wissen wahnsinnig viel über Sex u
 nd\ntragen trotzdem oft Scham und Selbstzweifel mit uns herum\, weil es\ns
 chwer bleibt\, dieses Wissen im eigenen Körper wirklich zu leben.\n\nAls 
 Sexualwissenschaftlerin habe ich zu sexuellen\nFunktionsstörungen geforsc
 ht – und allein dieses Wort verrät schon\nviel. Wir erwarten\, dass Kö
 rper auf eine bestimmte Art reagieren\,\nzuverlässig\, abrufbar\, passend
 . Dabei liegt der Zauber von\nSexualität doch oft im Gegenteil: im Chaos\
 , in der Überraschung\, in\nder Unvorhersehbarkeit.\n\nLeistungsdruck und
  heteronormative Bilder machen es schwer\,\nKörperkontakt ohne Erwartunge
 n zu genießen. Vielleicht geht es gar\nnicht darum\, sich weiter zu optim
 ieren oder alles richtig zu\nmachen. Vielleicht geht es darum\, sich wie e
 ine Spielkatze zu\nbewegen: neugierig\, eigensinnig\, ohne Plan. Bereit\, 
 mit dem eigenen\nKörper eine wirklich gute Zeit zu haben – nach den eig
 enen Regeln.\n\nVortragende: Dr. Madita Hoy (sie/ihr) ist Sexualpsychologi
 n und Gründerin des sexpositiven Spieleverlags Erotivity. Nach ihrer Prom
 otion über die Psychologie weiblicher Lust und sexueller Zufriedenheit wo
 llte sie etwas Sinnvolles mit diesem Nerd-Wissen machen und es dorthin bri
 ngen\, wo Sexualität wirklich gelebt wird.\nIn ihrer Arbeit verbindet sie
  Erkenntnisse über Lust\, Intimität und Kommunikation mit spielerischen 
 und kreativen Formaten. Es geht darum\, sich ohne Leistungsdruck auszuprob
 ieren und Sexualität neugierig\, reflektiert und mit Humor zu erforschen.
 \nBei Erotivity entstehen Spiele und Formate rund um selbstbestimmte Sexua
 lität\, emotionale Nähe und lustvolle Kommunikation – mit dem Ziel\, G
 espräche zu öffnen\, Tabus abzubauen und neue Erfahrungsräume zu schaff
 en.\n\nDatum: 18. März 2026\nUhrzeit: 20:00 – 21:30 Uhr\nOrt: Sexshop J
 uicy\, Arno-Nitzsche-Str. 20\, 04277 Leipzig\nZugänglichkeit: Hier gibt
  es eine (unvollständige) Liste der Barrieren\, die Juicy hat.\nAn diesem
  Abend werden wir auf dem Boden sitzen – einzelne Stühle stehen auch zu
 r Verfügung.\nSprache: Deutsch\nKosten: kostenlos\n\nCorona-Hinweis: Wir 
 freuen uns\, wenn ihr euch vorher testet. Masken dürfen auch sehr gern ge
 tragen werden!\n\n&nbsp\;\n\nhttps://juicyshop.de/event/vortrag-guter-sex-
 ist-kein-optimierungsprojekt-mit-dr-madita-hoy/\n\nhttps://www.planlos-lei
 pzig.org/events/vortrag-guter-sex-ist-kein-optimierungsprojekt-mit-dr-madi
 ta-hoy/
CATEGORIES:Vortrag
LOCATION:Juicy - queerer Sexshop für alle\, Arno-Nitzsche-Str. 20\, 04277 
 \, Leipzig
X-APPLE-STRUCTURED-LOCATION;VALUE=URI;X-ADDRESS=Arno-Nitzsche-Str. 20\, 042
 77 \, Leipzig\, Deutschland;X-APPLE-RADIUS=100;X-TITLE=Juicy - queerer Sex
 shop für alle:geo:0,0
END:VEVENT
BEGIN:VTIMEZONE
TZID:Europe/Berlin
X-LIC-LOCATION:Europe/Berlin
BEGIN:STANDARD
DTSTART:20251026T020000
TZOFFSETFROM:+0200
TZOFFSETTO:+0100
TZNAME:CET
END:STANDARD
END:VTIMEZONE
END:VCALENDAR