BEGIN:VCALENDAR
VERSION:2.0
PRODID:-//wp-events-plugin.com//7.2.3.1//EN
TZID:Europe/Berlin
X-WR-TIMEZONE:Europe/Berlin
BEGIN:VEVENT
UID:8772@planlos-leipzig.org
DTSTART;TZID=Europe/Berlin:20260625T170000
DTEND;TZID=Europe/Berlin:20260625T183000
DTSTAMP:20260311T080845Z
URL:https://www.planlos-leipzig.org/events/wer-schreibt-juedische-geschich
 te-fuehrung-in-die-portraitgalerie-mit-dr-nicolas-berg/
SUMMARY:Wer schreibt jüdische Geschichte? Führung in die Portraitgalerie 
 mit Dr. Nicolas Berg
DESCRIPTION:Wer schreibt jüdische Geschichte?\nFührung in die Porträtgal
 erie mit Dr. Nicolas Berg\nAnhand der Porträtgalerie »Jüdische Gelehrte
 « im ersten Stock des Dubnow-Instituts\, stellt Dr. Nicolas Berg\, Leiter
  des Forschungsressorts »Wissen« prägende Personen der jüdischen Gesch
 ichtsschreibung vor und fragt\, wie sie bis heute das Forschungsprofil des
  Instituts prägen.\n\nEine Veranstaltung im Rahmen der Jüdischen Woche L
 eipzig\n\nhttps://www.dubnow.de/veranstaltung/wer-schreibt-juedische-gesch
 ichte\n\nhttps://www.planlos-leipzig.org/events/wer-schreibt-juedische-ges
 chichte-fuehrung-in-die-portraitgalerie-mit-dr-nicolas-berg/
CATEGORIES:Ausstellung
LOCATION:Leibniz-Institut für jüdische Geschichte und Kultur – Simon Du
 bnow\, Goldschmidtstraße 28\, Leipzig
X-APPLE-STRUCTURED-LOCATION;VALUE=URI;X-ADDRESS=Goldschmidtstraße 28\, Lei
 pzig\, Deutschland;X-APPLE-RADIUS=100;X-TITLE=Leibniz-Institut für jüdis
 che Geschichte und Kultur – Simon Dubnow:geo:0,0
END:VEVENT
BEGIN:VTIMEZONE
TZID:Europe/Berlin
X-LIC-LOCATION:Europe/Berlin
BEGIN:DAYLIGHT
DTSTART:20260329T030000
TZOFFSETFROM:+0100
TZOFFSETTO:+0200
TZNAME:CEST
END:DAYLIGHT
END:VTIMEZONE
END:VCALENDAR