BEGIN:VCALENDAR
VERSION:2.0
PRODID:-//wp-events-plugin.com//7.2.3.1//EN
TZID:Europe/Berlin
X-WR-TIMEZONE:Europe/Berlin
BEGIN:VEVENT
UID:8760@planlos-leipzig.org
DTSTART;TZID=Europe/Berlin:20260328T150000
DTEND;TZID=Europe/Berlin:20260328T180000
DTSTAMP:20260311T080123Z
URL:https://www.planlos-leipzig.org/events/werkstattgespraech-zur-waermewe
 nde-hausprojekt-lanarres-e-v/
SUMMARY:Werkstattgespräch zur Wärmewende - Hausprojekt L'Anarres e.V.
DESCRIPTION:Wie kann eine soziale und klimafreundliche Wärmewende aussehen
 ? Diese Frage ist an alle gerichtet\, aber kann und muss nicht alleine bea
 ntwortet werden. Zusammen können wir unser Wissen\, unsere Ziele und unse
 re Sorgen teilen. Welche Ressourcen haben wir? Wie sind unsere Häuser akt
 uell aufgestellt? Was können Synergien bei der energetischen Sanierung se
 in? Wie sieht`s aus mit dem kommunalen Wärmeplan und wie kann er uns nutz
 en? Diesen und weiteren Fragen wird bei Kaffee und Kuchen am 28.3.26\, von
  15 bis 18h\, in der Seumestraße 30 nachgegangen.\n\nhttps://www.seume30.
 org/\nkollektive-wohnformen@riseup.net\n\n\n\nDie Veranstaltung findet im 
 Rahmen der Housing Action Days 2026 statt – das vollständige Programm f
 indet ihr unter: https://leipzigfueralle.de\n\n\n\n&nbsp\;\n\nhttps://leip
 zigfueralle.de/\n\nhttps://www.planlos-leipzig.org/events/werkstattgesprae
 ch-zur-waermewende-hausprojekt-lanarres-e-v/
ATTACH;FMTTYPE=image/jpeg:https://www.planlos-leipzig.org/wp-content/uploa
 ds/2026/03/planlos-Kachel-ohne-Gruppe-5.png
CATEGORIES:Infoveranstaltung
LOCATION:Seumestr. 30\, Seumestr. 30\, Knautkleeberg
X-APPLE-STRUCTURED-LOCATION;VALUE=URI;X-ADDRESS=Seumestr. 30\, Knautkleeber
 g\, Deutschland;X-APPLE-RADIUS=100;X-TITLE=Seumestr. 30:geo:0,0
END:VEVENT
BEGIN:VTIMEZONE
TZID:Europe/Berlin
X-LIC-LOCATION:Europe/Berlin
BEGIN:STANDARD
DTSTART:20251026T020000
TZOFFSETFROM:+0200
TZOFFSETTO:+0100
TZNAME:CET
END:STANDARD
END:VTIMEZONE
END:VCALENDAR