BEGIN:VCALENDAR
VERSION:2.0
PRODID:-//wp-events-plugin.com//7.2.3.1//EN
TZID:Europe/Berlin
X-WR-TIMEZONE:Europe/Berlin
BEGIN:VEVENT
UID:8741@planlos-leipzig.org
DTSTART;TZID=Europe/Berlin:20260326T170000
DTEND;TZID=Europe/Berlin:20260326T190000
DTSTAMP:20260307T005652Z
URL:https://www.planlos-leipzig.org/events/wie-wir-uns-gegen-ueberteure-wg
 -kaefige-wehren-koennen-input-und-vernetzung-betroffener-von-schwarzat-rad
 er-u-a/
SUMMARY:Wie wir uns gegen überteure WG-Käfige wehren können: Input und V
 ernetzung Betroffener von Schwarzat/Rader u.a.
DESCRIPTION:Wie wir uns gegen überteure WG-Käfige wehren können?!\nInput
  zur Gesetzeslage sowie Austausch mit Betroffenen und Aktivist*innen\, wie
  solchen Geschäftsmodellen (Beispiel Rader/Schwarzat)\, die sich am Rande
  der Legalität bewegen und das Wohnen in den Dreck ziehen\, besser die St
 irn geboten werden kann.\n\nwww.united-capitulation.de\ninsta @unitedcapit
 ulaltion\n\n\n\nDie Veranstaltung findet im Rahmen der Housing Action Days
  2026 statt – das vollständige Programm findet ihr unter: https://leipz
 igfueralle.de\n\n\n\n&nbsp\;\n\nhttps://leipzigfueralle.de/\n\nhttps://www
 .planlos-leipzig.org/events/wie-wir-uns-gegen-ueberteure-wg-kaefige-wehren
 -koennen-input-und-vernetzung-betroffener-von-schwarzat-rader-u-a/
ATTACH;FMTTYPE=image/jpeg:https://www.planlos-leipzig.org/wp-content/uploa
 ds/2026/03/planlos-united-capitulation.png
CATEGORIES:Infoveranstaltung
LOCATION:E113\, Eisenbahnstr. 113\, Leipzig Volkmarsdorf
X-APPLE-STRUCTURED-LOCATION;VALUE=URI;X-ADDRESS=Eisenbahnstr. 113\, Leipzig
  Volkmarsdorf\, Deutschland;X-APPLE-RADIUS=100;X-TITLE=E113:geo:0,0
END:VEVENT
BEGIN:VTIMEZONE
TZID:Europe/Berlin
X-LIC-LOCATION:Europe/Berlin
BEGIN:STANDARD
DTSTART:20251026T020000
TZOFFSETFROM:+0200
TZOFFSETTO:+0100
TZNAME:CET
END:STANDARD
END:VTIMEZONE
END:VCALENDAR