BEGIN:VCALENDAR
VERSION:2.0
PRODID:-//wp-events-plugin.com//7.2.3.1//EN
TZID:Europe/Berlin
X-WR-TIMEZONE:Europe/Berlin
BEGIN:VEVENT
UID:8931@planlos-leipzig.org
DTSTART;TZID=Europe/Berlin:20260503T150000
DTEND;TZID=Europe/Berlin:20260503T170000
DTSTAMP:20260421T152911Z
URL:https://www.planlos-leipzig.org/events/workshop-erstehilfe-auf-demo-un
 d-aktion/
SUMMARY:Workshop: ErsteHilfe auf Demo und Aktion
DESCRIPTION:Workshop: ErsteHilfe auf Demo und Aktion\n\nOrt: Rabet\, auf de
 m anarchistischen Parkfest\n\n&nbsp\;\n\nFußverstaucht\, Pfeffer gefangen
  oder Schlimmeres?\n\nKeine Panik! In 2 Stunden besprechen wir\, wie ihr d
 en häufigsten Verletzungen und Krankheitsbildern auf Demo begegnen könnt
  und üben ein paar Sachen direkt. Bringt gern ein Handtuch mit - wir spü
 len auch Augen.\n\n&nbsp\;\n\nDie Veranstaltung findet im Rahmen des &quot;anar
 chistischen Parkfest im Rabet&quot; statt. Für den genauen Ort\, folgt der Bes
 childerung oder fragt am Getränkestand.\n\n\n\nhttps://www.planlos-leipzi
 g.org/events/workshop-erstehilfe-auf-demo-und-aktion/
CATEGORIES:Workshop
LOCATION:Rabet\, Konradstraße 27\, Leipzig
X-APPLE-STRUCTURED-LOCATION;VALUE=URI;X-ADDRESS=Konradstraße 27\, Leipzig\
 , Deutschland;X-APPLE-RADIUS=100;X-TITLE=Rabet:geo:0,0
END:VEVENT
BEGIN:VTIMEZONE
TZID:Europe/Berlin
X-LIC-LOCATION:Europe/Berlin
BEGIN:DAYLIGHT
DTSTART:20260329T030000
TZOFFSETFROM:+0100
TZOFFSETTO:+0200
TZNAME:CEST
END:DAYLIGHT
END:VTIMEZONE
END:VCALENDAR