BEGIN:VCALENDAR
VERSION:2.0
PRODID:-//wp-events-plugin.com//7.2.3.1//EN
TZID:Europe/Berlin
X-WR-TIMEZONE:Europe/Berlin
BEGIN:VEVENT
UID:8927@planlos-leipzig.org
DTSTART;TZID=Europe/Berlin:20260527T193000
DTEND;TZID=Europe/Berlin:20260527T210200
DTSTAMP:20260420T150926Z
URL:https://www.planlos-leipzig.org/events/yiddle-with-his-fiddle-gefaess-
 des-liedes-tacheles/
SUMMARY:YIDDLE WITH HIS FIDDLE (GEFÄSS DES LIEDES / TACHELES)
DESCRIPTION:POL 1936\, Spielfilm\, 92 min\nRegie: Joseph Green &amp\; Jan N
 owina-Przybylski · OmeU (Jiddisch mit englischen Untertiteln)\nMit: Molly
  Picon\, Simcha Fostel\, Leon Liebgold\, Max Bozyk\, Dora Fakiel\, Basia L
 iebgold\n\nRegisseur Joseph Green kehrte für die Produktion von YIDDLE WI
 TH HIS FIDDLE aus Amerika in seine Heimat Polen zurück und brachte das ko
 mmerziell erfolgreichste Musical in der Geschichte des jiddischen Kinos he
 rvor\, nicht zuletzt dank dem exzellenten Schauspiel von Molly Picon\, der
  brillanten Komikerin des jiddischen Theaters\, des Varietés und des Film
 s\, in der Hauptrolle. In YIDDLE WITH HIS FIDDLE verdient sich die arme ju
 nge Mädchen Itke (Molly Picon) ihren Lebensunterhalt\, indem sie auf Mär
 kten und in Höfen in der kleinen Stadt Kazimierz-Dolny Geige spielt\, wo 
 sie zusammen mit ihrem alten verwitweten Vater Arye lebt. Als sie aus ihre
 m Zuhause vertrieben werden\, sieht Arye keinen anderen Ausweg\, als eine 
 „Karriere“ als fahrendes Klezmer-Ensemble zu beginnen\, hat jedoch Bed
 enken um die Sicherheit seiner Tochter wegen der aufdringlichen Männer. U
 m das Problem zu lösen\, verkleidet sich Itke als Junge\, nimmt die Ident
 ität „Yidl“ an\, angeblich Aryes Sohn\, und begibt sich mit ihrem Vat
 er auf die Reise\, auf der unerwartete Begegnungen unerwartete Gefühle mi
 t sich bringen. Anschließend findet ein Vortrag von Dr. Inna Klause über
  das Musikleben und Schicksäle jüdischer Musiker*innen im Gulag. Stills 
 © Jewish Film Institute\n\nDirector Joseph Green returned from America to
  his native Poland to produce YIDDLE WITH HIS FIDDLE\, creating the most c
 ommercially successful musical in the history of Yiddish cinema\, thanks i
 n no small part to the excellent performance of Molly Picon\, the brillian
 t comedienne of Yiddish theater\, vaudeville\, and film\, in the lead role
 . In YIDDLE WITH HIS FIDDLE\, the poor young girl Itke (Molly Picon) earns
  a living by playing the violin in markets and courtyards in the small tow
 n of Kazimierz-Dolny\, where she lives with her elderly widowed father\, A
 rye. When they are evicted from their home\, Arye sees no other way out th
 an to start a “career” as a traveling klezmer ensemble\, but he worrie
 s about his daughter’s safety because of the pushy men. To solve the pro
 blem\, Itke disguises herself as a boy\, assumes the identity of “Yidl
 ” – supposedly Arye’s son – and sets off on a journey with her fat
 her\, where unexpected encounters bring unexpected feelings. (Yiddish with
  English subtitles) The screening will be followed by a lecture by Dr. Inn
 a Klause on the musical lives and fates of Jewish musicians in the Gulag.\
 n\nhttps://cinematheque-leipzig.de/programm/filme/yiddle-with-his-fiddle/\
 n\nhttps://www.planlos-leipzig.org/events/yiddle-with-his-fiddle-gefaess-d
 es-liedes-tacheles/
CATEGORIES:Film
LOCATION:Cinémathèque\, Karl-Liebknecht-Str. 109\, Leipzig
X-APPLE-STRUCTURED-LOCATION;VALUE=URI;X-ADDRESS=Karl-Liebknecht-Str. 109\, 
 Leipzig\, Deutschland;X-APPLE-RADIUS=100;X-TITLE=Cinémathèque:geo:0,0
END:VEVENT
BEGIN:VTIMEZONE
TZID:Europe/Berlin
X-LIC-LOCATION:Europe/Berlin
BEGIN:DAYLIGHT
DTSTART:20260329T030000
TZOFFSETFROM:+0100
TZOFFSETTO:+0200
TZNAME:CEST
END:DAYLIGHT
END:VTIMEZONE
END:VCALENDAR