BEGIN:VCALENDAR
VERSION:2.0
PRODID:-//wp-events-plugin.com//7.2.3.1//EN
TZID:Europe/Berlin
X-WR-TIMEZONE:Europe/Berlin
BEGIN:VEVENT
UID:8771@planlos-leipzig.org
DTSTART;TZID=Europe/Berlin:20260625T200000
DTEND;TZID=Europe/Berlin:20260625T220000
DTSTAMP:20260311T080855Z
URL:https://www.planlos-leipzig.org/events/zuflucht-am-mittelmeer-szenisch
 e-lesung-zur-zwangsmigration-deutsch-juedischer-gelehrter-aus-nazideutschl
 and/
SUMMARY:Zuflucht am Mittelmeer. Szenische Lesung zur Zwangsmigration deutsc
 h-jüdischer Gelehrter aus Nazideutschland
DESCRIPTION:Zuflucht am Mittelmeer\nSzenische Lesung mit Studierenden der U
 niversität Leipzig zur Zwangsmigration von deutsch-jüdischen Gelehrten a
 us Nazideutschland\nVon Breslau nach Jerusalem\, von Berlin nach Kairo\, v
 on Leipzig nach Ankara: In den 1930er Jahren flohen jüdische Gelehrte vor
  der nationalsozialistischen Verfolgung ans Mittelmeer. Die szenische Lesu
 ng widmet sich anhand von vier Lebensläufen den Wegen\, Herausforderungen
  und Schicksalen der in Deutschland bedrohten jüdischen Akademikerinnen u
 nd Akademikern sowie ihrer Aufnahme im Exil.\n\nDie Lesung wurde von Studi
 erenden der Universität Leipzig im Rahmen eines Projektseminars von Sebas
 tian Willert am Dubnow-Institut erarbeitet. Die aus mehreren Archiven zusa
 mmengetragenen Dokumente zeigen\, unter welchen Bedingungen sich Solidarit
 ät und Unterstützung für bedrohte Akademikerinnen und Akademiker formie
 rten. Als zentrale Akteure wählten Hilfsorganisationen aus\, wen sie bei 
 der Flucht unterstützten. Die Lesung vermittelt individuelle Perspektiven
  auf die Zwangsmigration aus Nazideutschland ans Mittelmeer und skizziert 
 die Realitäten\, mit denen Geflüchtete vor Ort konfrontiert wurden.\n\nE
 ine Veranstaltung im Rahmen der Jüdischen Woche Leipzig.\n\nhttps://www.d
 ubnow.de/veranstaltung/zuflucht-am-mittelmeer-1\n\nhttps://www.planlos-lei
 pzig.org/events/zuflucht-am-mittelmeer-szenische-lesung-zur-zwangsmigratio
 n-deutsch-juedischer-gelehrter-aus-nazideutschland/
CATEGORIES:Lesung
LOCATION:Cammerspiele Leipzig\, Kochstraße 132 \, 04277 Leipzig
X-APPLE-STRUCTURED-LOCATION;VALUE=URI;X-ADDRESS=Kochstraße 132 \, 04277 Le
 ipzig\, Deutschland;X-APPLE-RADIUS=100;X-TITLE=Cammerspiele Leipzig:geo:0,
 0
END:VEVENT
BEGIN:VTIMEZONE
TZID:Europe/Berlin
X-LIC-LOCATION:Europe/Berlin
BEGIN:DAYLIGHT
DTSTART:20260329T030000
TZOFFSETFROM:+0100
TZOFFSETTO:+0200
TZNAME:CEST
END:DAYLIGHT
END:VTIMEZONE
END:VCALENDAR